BEGIN:VCALENDAR
VERSION:2.0
PRODID:-//ChamberMaster//Event Calendar 2.0//EN
METHOD:PUBLISH
X-PUBLISHED-TTL:P3D
REFRESH-INTERVAL:P3D
CALSCALE:GREGORIAN
BEGIN:VEVENT
DTSTART:20150412T000000Z
DTEND:20150412T033000Z
X-MICROSOFT-CDO-ALLDAYEVENT:FALSE
SUMMARY:Sip of La Verne Wine Walk
DESCRIPTION:Take a stroll around La Verne and enjoy some outstanding wines and delicious food.
X-ALT-DESC;FMTTYPE=text/html:Take a stroll around La Verne and enjoy some outstanding wines and delicious food.
LOCATION:D Street\, La Verne
UID:e.1883.87
SEQUENCE:3
DTSTAMP:20260425T035958Z
URL:https://business.lavernechamber.org/events/details/sip-of-la-verne-wine-walk-04-11-2015-87
END:VEVENT

END:VCALENDAR
