BEGIN:VCALENDAR
VERSION:2.0
PRODID:-//ChamberMaster//Event Calendar 2.0//EN
METHOD:PUBLISH
X-PUBLISHED-TTL:P3D
REFRESH-INTERVAL:P3D
CALSCALE:GREGORIAN
BEGIN:VEVENT
DTSTART:20190505T000000Z
DTEND:20190505T033000Z
X-MICROSOFT-CDO-ALLDAYEVENT:FALSE
SUMMARY:Sip of La Verne Wine Walk
DESCRIPTION:2019 Great Wines\, Amazing Food and More Music Tan You Can Stand!\n\nOld Town La Verne. This historic district\, the heart of La Verne since 1887\, comes alive with amazing Tastes\, Sights and Sounds on May 4th from 5pm to 8:30pm. More than 30 businesses will offer samples of Quality Wines and Unique Foods from our amazing selection of local restaurants with Reds\, Whites\, Dessert and Sparkling Wines paired to enhance you enjoyment. This is our 7th Wine Walk and each year has sold out prior to the event. \n\n \n\nParticipants receive a commemorative wine glass\, tickets for 12 wine pours and unlimited food tastings from great La Verne Restaurants with a backdrop of live music in multiple locations throughout. Attendees at past events were amazed at the quality of the Wine and Food offerings\, individually selected for your enjoyment. \n\nDesignated Driver Tickets\n\nOnce again we are offering Designated Driver Tickets for $20. Purchasers receive a wristband entitling them to unlimited Food Sample Tastings and agree not to consume any alcohol.\n\nSavor the wine\, sample great foods and stay to enjoy dinner in one of our amazing local restaurants. Bring your friends and have fun...\n\n \n\nThis year's Wine Walk Charity Partner is the CERT - Community Emergency Response Team- a La Verne Non-Profit that is affiliated with the La Verne Fire Department\n\n \n\nCheck-In is from at 4:30 pm - 7:00 pm at two locations\, the Northwest corner of Bonita and D Streets and at Mainero Square\, corner of Third and D Streets. After 7:00 please check-in at Pension Portfolios\, 2025 Bonita Avenues.\n\nID Required\, no one under 21 may participate\, you will be provided with a Wine Walk identification wristband. No alcohol will be allowed outside the designated areas. Your wristband will also allow you to enjoy food samples at several restaurant locations in addition to food samples at the wine stops. Please drink responsibly\, non-alchoholic beverages and bottled water will be available at several locations.\n\nPaper Tickets are available at the La Verne City Hall Community Development Counter\n\n \n\nFAQs\n\nAre there ID requirements or an age limit to enter the event?\n\nYou must be 21 to participate\, ID will be checked at Check-In\n\nWhat are my Parking options getting for the event?\n\nParking is available on any Street and Public Parking Lots.\n\nWhere can I contact the organizer with any questions?\n\nE-mail to info@oldtownwinewalk.com\n\nDo I have to bring my printed ticket to the event?\n\nNot required but a printed ticket will help make your Check-In quicker\n\nThe name on the registration/ticket doesn't match the attendee. Is that okay?\n\nYes
X-ALT-DESC;FMTTYPE=text/html:<p font-size:="" helvetica="" letter-spacing:="" neue="" style="margin: 0px\; padding: 10px 0px 0px\; color: rgb(111\, 114\, 135)\; font-family: "><span style="padding-top: 0px\;"><em style="padding-top: 0px\;"><span style="font-weight: 700\; padding-top: 0px\;">2019 Great Wines\, Amazing Food and More Music Tan You Can Stand!</span></em></span></p>\n\n<p font-size:="" helvetica="" letter-spacing:="" neue="" style="margin: 0px\; padding: 10px 0px 0px\; color: rgb(111\, 114\, 135)\; font-family: "><span style="padding-top: 0px\;">Old Town La Verne. This historic district\, the heart of La Verne since 1887\, comes alive with amazing Tastes\, Sights and Sounds on May 4th from 5pm to 8:30pm. More than 30 businesses will offer samples of Quality Wines and Unique Foods from our amazing selection of local restaurants with Reds\, Whites\, Dessert and Sparkling Wines paired to enhance you enjoyment.&nbsp\;<span style="padding-top: 0px\;">This is our 7th Wine Walk and each year has sold out prior to the event.&nbsp\;</span></span><br />\n&nbsp\;</p>\n\n<p font-size:="" helvetica="" letter-spacing:="" neue="" style="margin: 0px\; padding: 10px 0px 0px\; color: rgb(111\, 114\, 135)\; font-family: "><span style="padding-top: 0px\;">Participants receive a commemorative wine glass\, tickets for 12 wine pours and unlimited food tastings from great La Verne Restaurants with a backdrop of live music in multiple locations throughout. Attendees at past events were amazed at the quality of the Wine and Food offerings\, individually selected for your enjoyment.&nbsp\;</span></p>\n\n<p font-size:="" helvetica="" letter-spacing:="" neue="" style="margin: 0px\; padding: 10px 0px 0px\; color: rgb(111\, 114\, 135)\; font-family: "><span style="padding-top: 0px\;"><span style="font-weight: 700\; padding-top: 0px\;"><em style="padding-top: 0px\;">Designated Driver Tickets</em></span></span></p>\n\n<p font-size:="" helvetica="" letter-spacing:="" neue="" style="margin: 0px\; padding: 10px 0px 0px\; color: rgb(111\, 114\, 135)\; font-family: "><span style="padding-top: 0px\;">Once again we are offering Designated Driver Tickets for $20. Purchasers receive a wristband entitling them to unlimited Food Sample Tastings and agree not to consume any alcohol.</span></p>\n\n<p font-size:="" helvetica="" letter-spacing:="" neue="" style="margin: 0px\; padding: 10px 0px 0px\; color: rgb(111\, 114\, 135)\; font-family: "><span style="padding-top: 0px\;">Savor the wine\, sample great foods and stay to enjoy dinner in one of our amazing local restaurants. Bring your friends and have fun...</span><br />\n&nbsp\;</p>\n\n<p style="margin: 0px\; padding: 10px 0px 0px\; color: rgb(111\, 114\, 135)\; font-family: &quot\;Neue Plak&quot\;\, -apple-system\, BlinkMacSystemFont\, Roboto\, &quot\;Helvetica Neue&quot\;\, Helvetica\, Tahoma\, Arial\, sans-serif\; font-size: 15px\; letter-spacing: 0.5px\;"><span style="padding-top: 0px\;"><em style="padding-top: 0px\;"><span style="padding-top: 0px\;">This year&#39\;s Wine Walk Charity Partner is the&nbsp\;<span style="font-weight: 700\; padding-top: 0px\;">CERT</span>&nbsp\;- Community Emergency Response Team-&nbsp\;</span>a La Verne Non-Profit that is affiliated with the La Verne Fire Department</em></span></p>\n\n<p style="margin: 0px\; padding: 10px 0px 0px\; color: rgb(111\, 114\, 135)\; font-family: &quot\;Neue Plak&quot\;\, -apple-system\, BlinkMacSystemFont\, Roboto\, &quot\;Helvetica Neue&quot\;\, Helvetica\, Tahoma\, Arial\, sans-serif\; font-size: 15px\; letter-spacing: 0.5px\;">&nbsp\;</p>\n\n<p style="margin: 0px\; padding: 10px 0px 0px\; color: rgb(111\, 114\, 135)\; font-family: &quot\;Neue Plak&quot\;\, -apple-system\, BlinkMacSystemFont\, Roboto\, &quot\;Helvetica Neue&quot\;\, Helvetica\, Tahoma\, Arial\, sans-serif\; font-size: 15px\; letter-spacing: 0.5px\;"><span style="padding-top: 0px\;"><em style="padding-top: 0px\;">Check-In is from at 4:30 pm - 7:00 pm at two locations\, the Northwest corner of Bonita and D Streets and at Mainero Square\, corner of Third and D Streets. After 7:00 please check-in at Pension Portfolios\, 2025 Bonita Avenues.</em></span></p>\n\n<p style="margin: 0px\; padding: 10px 0px 0px\; color: rgb(111\, 114\, 135)\; font-family: &quot\;Neue Plak&quot\;\, -apple-system\, BlinkMacSystemFont\, Roboto\, &quot\;Helvetica Neue&quot\;\, Helvetica\, Tahoma\, Arial\, sans-serif\; font-size: 15px\; letter-spacing: 0.5px\;"><span style="padding-top: 0px\;"><em style="padding-top: 0px\;">ID Required\, no one under 21 may participate\, you will be provided with a Wine Walk identification wristband. No alcohol will be allowed outside the designated areas. Your wristband will also allow you to enjoy food samples at several restaurant locations in addition to food samples at the wine stops. Please drink responsibly\, non-alchoholic beverages and bottled water will be available at several locations.</em></span></p>\n\n<p style="margin: 0px\; padding: 10px 0px 0px\; color: rgb(111\, 114\, 135)\; font-family: &quot\;Neue Plak&quot\;\, -apple-system\, BlinkMacSystemFont\, Roboto\, &quot\;Helvetica Neue&quot\;\, Helvetica\, Tahoma\, Arial\, sans-serif\; font-size: 15px\; letter-spacing: 0.5px\;"><span style="font-weight: 700\; padding-top: 0px\;"><span style="padding-top: 0px\;"><em style="padding-top: 0px\;">Paper Tickets are available at the La Verne City Hall Community Development Counter</em></span></span></p>\n\n<p style="margin: 0px\; padding: 10px 0px 0px\; color: rgb(111\, 114\, 135)\; font-family: &quot\;Neue Plak&quot\;\, -apple-system\, BlinkMacSystemFont\, Roboto\, &quot\;Helvetica Neue&quot\;\, Helvetica\, Tahoma\, Arial\, sans-serif\; font-size: 15px\; letter-spacing: 0.5px\;">&nbsp\;</p>\n\n<p style="margin: 0px\; padding: 10px 0px 0px\; color: rgb(111\, 114\, 135)\; font-family: &quot\;Neue Plak&quot\;\, -apple-system\, BlinkMacSystemFont\, Roboto\, &quot\;Helvetica Neue&quot\;\, Helvetica\, Tahoma\, Arial\, sans-serif\; font-size: 15px\; letter-spacing: 0.5px\;"><span style="font-weight: 700\; padding-top: 0px\;">FAQs</span></p>\n\n<p style="margin: 0px\; padding: 10px 0px 0px\; color: rgb(111\, 114\, 135)\; font-family: &quot\;Neue Plak&quot\;\, -apple-system\, BlinkMacSystemFont\, Roboto\, &quot\;Helvetica Neue&quot\;\, Helvetica\, Tahoma\, Arial\, sans-serif\; font-size: 15px\; letter-spacing: 0.5px\;"><span style="font-weight: 700\; padding-top: 0px\;">Are there ID requirements or an age limit to enter the event?</span></p>\n\n<p style="margin: 0px\; padding: 10px 0px 0px\; color: rgb(111\, 114\, 135)\; font-family: &quot\;Neue Plak&quot\;\, -apple-system\, BlinkMacSystemFont\, Roboto\, &quot\;Helvetica Neue&quot\;\, Helvetica\, Tahoma\, Arial\, sans-serif\; font-size: 15px\; letter-spacing: 0.5px\;">You must be 21 to participate\, ID will be checked at Check-In</p>\n\n<p style="margin: 0px\; padding: 10px 0px 0px\; color: rgb(111\, 114\, 135)\; font-family: &quot\;Neue Plak&quot\;\, -apple-system\, BlinkMacSystemFont\, Roboto\, &quot\;Helvetica Neue&quot\;\, Helvetica\, Tahoma\, Arial\, sans-serif\; font-size: 15px\; letter-spacing: 0.5px\;"><span style="font-weight: 700\; padding-top: 0px\;">What are my Parking options getting for the event?</span></p>\n\n<p style="margin: 0px\; padding: 10px 0px 0px\; color: rgb(111\, 114\, 135)\; font-family: &quot\;Neue Plak&quot\;\, -apple-system\, BlinkMacSystemFont\, Roboto\, &quot\;Helvetica Neue&quot\;\, Helvetica\, Tahoma\, Arial\, sans-serif\; font-size: 15px\; letter-spacing: 0.5px\;">Parking is available on any Street and Public Parking Lots.</p>\n\n<p style="margin: 0px\; padding: 10px 0px 0px\; color: rgb(111\, 114\, 135)\; font-family: &quot\;Neue Plak&quot\;\, -apple-system\, BlinkMacSystemFont\, Roboto\, &quot\;Helvetica Neue&quot\;\, Helvetica\, Tahoma\, Arial\, sans-serif\; font-size: 15px\; letter-spacing: 0.5px\;"><span style="font-weight: 700\; padding-top: 0px\;">Where can I contact the organizer with any questions?</span></p>\n\n<p style="margin: 0px\; padding: 10px 0px 0px\; color: rgb(111\, 114\, 135)\; font-family: &quot\;Neue Plak&quot\;\, -apple-system\, BlinkMacSystemFont\, Roboto\, &quot\;Helvetica Neue&quot\;\, Helvetica\, Tahoma\, Arial\, sans-serif\; font-size: 15px\; letter-spacing: 0.5px\;">E-mail to info@oldtownwinewalk.com</p>\n\n<p style="margin: 0px\; padding: 10px 0px 0px\; color: rgb(111\, 114\, 135)\; font-family: &quot\;Neue Plak&quot\;\, -apple-system\, BlinkMacSystemFont\, Roboto\, &quot\;Helvetica Neue&quot\;\, Helvetica\, Tahoma\, Arial\, sans-serif\; font-size: 15px\; letter-spacing: 0.5px\;"><span style="font-weight: 700\; padding-top: 0px\;">Do I have to bring my printed ticket to the event?</span></p>\n\n<p style="margin: 0px\; padding: 10px 0px 0px\; color: rgb(111\, 114\, 135)\; font-family: &quot\;Neue Plak&quot\;\, -apple-system\, BlinkMacSystemFont\, Roboto\, &quot\;Helvetica Neue&quot\;\, Helvetica\, Tahoma\, Arial\, sans-serif\; font-size: 15px\; letter-spacing: 0.5px\;">Not required but a printed ticket will help make your Check-In quicker</p>\n\n<p style="margin: 0px\; padding: 10px 0px 0px\; color: rgb(111\, 114\, 135)\; font-family: &quot\;Neue Plak&quot\;\, -apple-system\, BlinkMacSystemFont\, Roboto\, &quot\;Helvetica Neue&quot\;\, Helvetica\, Tahoma\, Arial\, sans-serif\; font-size: 15px\; letter-spacing: 0.5px\;"><span style="font-weight: 700\; padding-top: 0px\;">The name on the registration/ticket doesn&#39\;t match the attendee. Is that okay?</span></p>\n\n<p style="margin: 0px\; padding: 10px 0px 0px\; color: rgb(111\, 114\, 135)\; font-family: &quot\;Neue Plak&quot\;\, -apple-system\, BlinkMacSystemFont\, Roboto\, &quot\;Helvetica Neue&quot\;\, Helvetica\, Tahoma\, Arial\, sans-serif\; font-size: 15px\; letter-spacing: 0.5px\;">Yes</p>\n
LOCATION:Old Town La Verne D and Third Street\, just south of Bonita Ave.
UID:e.1883.1325
SEQUENCE:3
DTSTAMP:20260421T222515Z
URL:https://business.lavernechamber.org/events/details/sip-of-la-verne-wine-walk-1325
END:VEVENT

END:VCALENDAR
