BEGIN:VCALENDAR
VERSION:2.0
PRODID:-//ChamberMaster//Event Calendar 2.0//EN
METHOD:PUBLISH
X-PUBLISHED-TTL:P3D
REFRESH-INTERVAL:P3D
CALSCALE:GREGORIAN
BEGIN:VEVENT
DTSTART:20190728T190000Z
DTEND:20190728T210000Z
X-MICROSOFT-CDO-ALLDAYEVENT:FALSE
SUMMARY:Sips and Tri-Tips at Third Street Wine
DESCRIPTION:Join us for some Third Street Sips and The Corner Butcher Shop Trip Tip!\n\n\n\nWe're capping off our BBQ Wines Week with some great wine and some great food!\n\n\n\nReservations include one glass of wine (or beer) and a Corner Butcher Shop Tri-Tip sandwhich and side.
X-ALT-DESC;FMTTYPE=text/html:<p><span style="font-size:16px\;"><span style="font-family:arial\;"><span style="white-space: pre-wrap\;">Join us for some Third Street Sips and </span>The Corner Butcher Shop<span style="white-space: pre-wrap\;"> Trip Tip!</span><br style="color: rgb(29\, 33\, 41)\; font-family: Helvetica\, Arial\, sans-serif\; font-size: 14px\; white-space: pre-wrap\;" />\n<br style="color: rgb(29\, 33\, 41)\; font-family: Helvetica\, Arial\, sans-serif\; font-size: 14px\; white-space: pre-wrap\;" />\n<span style="white-space: pre-wrap\;">We&#39\;re capping off our BBQ Wines Week with some great wine and some great food!</span><br style="color: rgb(29\, 33\, 41)\; font-family: Helvetica\, Arial\, sans-serif\; font-size: 14px\; white-space: pre-wrap\;" />\n<br style="color: rgb(29\, 33\, 41)\; font-family: Helvetica\, Arial\, sans-serif\; font-size: 14px\; white-space: pre-wrap\;" />\n<span style="white-space: pre-wrap\;">Reservations include one glass of wine (or beer) and a Corner Butcher Shop Tri-Tip sandwhich and side. </span></span></span></p>\n<br style="color: rgb(29\, 33\, 41)\; font-family: Helvetica\, Arial\, sans-serif\; font-size: 14px\; white-space: pre-wrap\;" />\n&nbsp\;
LOCATION:Third Street Wine Shop
UID:e.1883.1488
SEQUENCE:3
DTSTAMP:20260421T190656Z
URL:https://business.lavernechamber.org/events/details/sips-and-tri-tips-at-third-street-wine-1488
END:VEVENT

END:VCALENDAR
