BEGIN:VCALENDAR
VERSION:2.0
PRODID:-//ChamberMaster//Event Calendar 2.0//EN
METHOD:PUBLISH
X-PUBLISHED-TTL:P3D
REFRESH-INTERVAL:P3D
CALSCALE:GREGORIAN
BEGIN:VEVENT
DTSTART:20181124T170000Z
DTEND:20181125T060000Z
X-MICROSOFT-CDO-ALLDAYEVENT:FALSE
SUMMARY:Small Business Saturday
DESCRIPTION:On Saturday November 24\, we encourage you to shop local and play "Shop La Verne Bingo." Whenever you find the Shop Small Button at one of the businesses listed on the Bingo Card\, have the store manager or staff member sign inside the designated box. Ifyou purchase any item at a business\, you will get a signature in any of the (4)"Purchased Item Bonus Spaces. If you complete a standard BINGO (5 in a row)\; your name will be placed in a drawing for a chance to win $50 in in Gift Certificates from participating businesses. If you complete a blackout BINGO board\, your name will be in a drawing for a chance to win $100 in Gift Certificates from participating businesses and other great prizes.
X-ALT-DESC;FMTTYPE=text/html:<p open="" style="box-sizing: border-box\; margin: 0px\; padding: 0px 0px 1em\; border: 0px\; outline: 0px\; background-image: initial\; background-position: initial\; background-size: initial\; background-repeat: initial\; background-attachment: initial\; background-origin: initial\; background-clip: initial\; font-size: 14px\; vertical-align: baseline\; color: rgb(117\, 117\, 117)\; font-family: "><span style="color:#323D47\;"><span style="font-family:calibri\,sans-serif\;">On Saturday November 24\, we encourage you to shop local and play &ldquo\;Shop La Verne Bingo.&rdquo\; Whenever you find the Shop Small Button at one of the businesses listed on the Bingo Card\, have the store manager or staff member sign inside the designated box. Ifyou purchase any item at a business\, you will get a signature in any of the (4)&ldquo\;Purchased Item Bonus Spaces. If you complete a standard BINGO (5 in a row)\; your name will be placed in a drawing for a chance to win $50 in in Gift Certificates from participating businesses. If you complete a blackout BINGO board\, your name will be in a drawing for a chance to win $100 in Gift Certificates from participating businesses and other great prizes. </span></span></p>\n\n<p open="" style="box-sizing: border-box\; margin: 0px\; padding: 0px\; border: 0px\; outline: 0px\; background-image: initial\; background-position: initial\; background-size: initial\; background-repeat: initial\; background-attachment: initial\; background-origin: initial\; background-clip: initial\; font-size: 14px\; vertical-align: baseline\; color: rgb(117\, 117\, 117)\; font-family: ">&nbsp\;</p>\n
LOCATION:La Verne
UID:e.1883.1173
SEQUENCE:3
DTSTAMP:20260422T073551Z
URL:https://business.lavernechamber.org/events/details/small-business-saturday-1173
END:VEVENT

END:VCALENDAR
