BEGIN:VCALENDAR
VERSION:2.0
PRODID:-//ChamberMaster//Event Calendar 2.0//EN
METHOD:PUBLISH
X-PUBLISHED-TTL:P3D
REFRESH-INTERVAL:P3D
CALSCALE:GREGORIAN
BEGIN:VEVENT
DTSTART;VALUE=DATE:20171125
DTEND;VALUE=DATE:20171126
TRANSP:TRANSPARENT
X-MICROSOFT-CDO-ALLDAYEVENT:TRUE
SUMMARY:Small Business Saturday
DESCRIPTION:Small Business Saturday is an American shopping holiday held on the Saturday after Thanksgiving\, during one of the busiest shopping periods of the year. The aim of Small Business Saturday is to boost support of small businesses across the country and to act as a shopping alternative to BlackFriday and Cyber Monday.\n\nThis year your La Verne Chamber of Commerce is rallying the neighborhood to Shop Small by inviting the community to join us for a scavenger hunt on Small Business Saturday. On Saturday November 25th\, La Vernenians will have a chance test their knowledge of their neighborhood\, enjoy shopping at fun and unique stores and restaurants and have a chance to win some great prizes!\n\nThe rules are simple\; pick up your Shop Small La Verne Scavenger Hunt Map at the La Verne Chamber\, City Hall\, La Verne Library or participating retailers on or before Saturday November 25th\, based on the clues\, find the "scavenger" item in the store and list it on the map. Every 5 correct answers will earn you 1 raffle entry. Post a picture* to facebook\, twitter or instagram with #shopsmallLa Verne and earn an additional entry.  Turn in your completed map to the La Verne Library by Sunday December 3rd for a chance to win gift cards from participating retailers!\n\nWhy go out of the community for your basic needs when you can shop right here in La Verne? Join the movement and support as many businesses in the community as possible and remember that when you shop small\, it can lead to big things!.\n\nAmerican Express Small Business Saturday helps small businesses do more business. The first-ever Small Business Saturday took place on Nov 27\, 2010. It encouraged people across the country to support small\, local businesses. In 2011\, the United States Senate unanimously passed a resolution of support for Small Business Saturday.  Over $14.3 billion has been spent at independent small businesses on Small Business Saturday.\n\n*Posts must be set to public for submission.
X-ALT-DESC;FMTTYPE=text/html:<p style="box-sizing: border-box\; margin: 0px\; padding: 0px 0px 1em\; border: 0px\; outline: 0px\; background-image: initial\; background-position: initial\; background-size: initial\; background-repeat: initial\; background-attachment: initial\; background-origin: initial\; background-clip: initial\; font-size: 14px\; vertical-align: baseline\; color: rgb(117\, 117\, 117)\; font-family: &quot\;Open Sans&quot\;\, Arial\, sans-serif\;">Small Business Saturday is an American shopping holiday held on the Saturday after Thanksgiving\, during one of the busiest shopping periods of the year. The aim of Small Business Saturday is to boost support of small businesses across the country and to act as a shopping alternative to BlackFriday and Cyber Monday.</p>\n\n<p style="box-sizing: border-box\; margin: 0px\; padding: 0px 0px 1em\; border: 0px\; outline: 0px\; background-image: initial\; background-position: initial\; background-size: initial\; background-repeat: initial\; background-attachment: initial\; background-origin: initial\; background-clip: initial\; font-size: 14px\; vertical-align: baseline\; color: rgb(117\, 117\, 117)\; font-family: &quot\;Open Sans&quot\;\, Arial\, sans-serif\;">This year your La Verne Chamber of Commerce is rallying the neighborhood to Shop Small by inviting the community to join us for a scavenger hunt on Small Business Saturday. On Saturday November 25<span style="box-sizing: border-box\; margin: 0px\; padding: 0px\; border: 0px\; outline: 0px\; background: transparent\; vertical-align: baseline\; position: relative\; height: 0px\; line-height: 1\; bottom: 0.8em\;">th</span>\, La Vernenians will have a chance test their knowledge of their neighborhood\, enjoy shopping at fun and unique stores and restaurants and have a chance to win some great prizes!</p>\n\n<p style="box-sizing: border-box\; margin: 0px\; padding: 0px 0px 1em\; border: 0px\; outline: 0px\; background-image: initial\; background-position: initial\; background-size: initial\; background-repeat: initial\; background-attachment: initial\; background-origin: initial\; background-clip: initial\; font-size: 14px\; vertical-align: baseline\; color: rgb(117\, 117\, 117)\; font-family: &quot\;Open Sans&quot\;\, Arial\, sans-serif\;">The rules are simple\; pick up your Shop Small La Verne Scavenger Hunt Map at the La Verne Chamber\, City Hall\, La Verne Library or participating retailers on or before Saturday November 25<span style="box-sizing: border-box\; margin: 0px\; padding: 0px\; border: 0px\; outline: 0px\; background: transparent\; vertical-align: baseline\; position: relative\; height: 0px\; line-height: 1\; bottom: 0.8em\;">th</span>\, based on the clues\, find the &ldquo\;scavenger&rdquo\; item in the store and list it on the map. Every 5 correct answers will earn you 1 raffle entry. Post a picture* to facebook\, twitter or instagram with #shopsmallLa Verne and earn an additional entry.&nbsp\; Turn in your completed map to the La Verne Library by Sunday December 3rd for a chance to win gift cards from participating retailers!</p>\n\n<p style="box-sizing: border-box\; margin: 0px\; padding: 0px 0px 1em\; border: 0px\; outline: 0px\; background-image: initial\; background-position: initial\; background-size: initial\; background-repeat: initial\; background-attachment: initial\; background-origin: initial\; background-clip: initial\; font-size: 14px\; vertical-align: baseline\; color: rgb(117\, 117\, 117)\; font-family: &quot\;Open Sans&quot\;\, Arial\, sans-serif\;">Why go out of the community for your basic needs when you can shop right here in La Verne? Join the movement and support as many businesses in the community as possible and remember that when you shop small\, it can lead to big things!.</p>\n\n<p style="box-sizing: border-box\; margin: 0px\; padding: 0px 0px 1em\; border: 0px\; outline: 0px\; background-image: initial\; background-position: initial\; background-size: initial\; background-repeat: initial\; background-attachment: initial\; background-origin: initial\; background-clip: initial\; font-size: 14px\; vertical-align: baseline\; color: rgb(117\, 117\, 117)\; font-family: &quot\;Open Sans&quot\;\, Arial\, sans-serif\;">American Express Small Business Saturday helps small businesses do more business. The first-ever Small Business Saturday took place on Nov 27\, 2010. It encouraged people across the country to support small\, local businesses. In 2011\, the United States Senate unanimously passed a resolution of support for Small Business Saturday. &nbsp\;Over $14.3 billion has been spent at independent small businesses on Small Business Saturday.</p>\n\n<p style="box-sizing: border-box\; margin: 0px\; padding: 0px\; border: 0px\; outline: 0px\; background-image: initial\; background-position: initial\; background-size: initial\; background-repeat: initial\; background-attachment: initial\; background-origin: initial\; background-clip: initial\; font-size: 14px\; vertical-align: baseline\; color: rgb(117\, 117\, 117)\; font-family: &quot\;Open Sans&quot\;\, Arial\, sans-serif\;">*Posts must be set to public for submission.</p>\n
LOCATION:La Verne
UID:e.1883.420
SEQUENCE:3
DTSTAMP:20260423T014854Z
URL:https://business.lavernechamber.org/events/details/small-business-saturday-420
END:VEVENT

END:VCALENDAR
