BEGIN:VCALENDAR
VERSION:2.0
PRODID:-//ChamberMaster//Event Calendar 2.0//EN
METHOD:PUBLISH
X-PUBLISHED-TTL:P3D
REFRESH-INTERVAL:P3D
CALSCALE:GREGORIAN
BEGIN:VEVENT
DTSTART:20180504T150000Z
DTEND:20180504T183000Z
X-MICROSOFT-CDO-ALLDAYEVENT:FALSE
SUMMARY:Small Business Week Resource Summit
DESCRIPTION:Join the County of Los Angeles as we celebrate National Small Business Week. Come network and learn about Federal\, State & local resources available to assist you in starting and growing your business. This is a FREE event.
X-ALT-DESC;FMTTYPE=text/html:<span style="font-size:14px"><span style="font-family:arial\,helvetica\,sans-serif"><span style="color:#000000">Join&nbsp\;the&nbsp\;County&nbsp\;of&nbsp\;Los&nbsp\;Angeles&nbsp\;as&nbsp\;we&nbsp\;celebrate&nbsp\;National&nbsp\;Small&nbsp\;Business&nbsp\;Week.&nbsp\;Come&nbsp\;network&nbsp\;and&nbsp\;learn&nbsp\;about&nbsp\;Federal\,&nbsp\;State&nbsp\;&amp\;&nbsp\;local&nbsp\;resources&nbsp\;available&nbsp\;to&nbsp\;assist&nbsp\;you&nbsp\;in&nbsp\;starting&nbsp\;and&nbsp\;growing&nbsp\;your&nbsp\;business.&nbsp\;This&nbsp\;is&nbsp\;a&nbsp\;<strong>FREE</strong>&nbsp\;event.</span></span></span><br />\n<br />\n<br />\n&nbsp\;
LOCATION:Where: Hacienda La Puente Adult School - Willow Center 14101 E. Nelson Ave. La Puente\, CA 9174
UID:e.1883.637
SEQUENCE:3
DTSTAMP:20260422T162448Z
URL:https://business.lavernechamber.org/events/details/small-business-week-resource-summit-637
END:VEVENT

END:VCALENDAR
