BEGIN:VCALENDAR
VERSION:2.0
PRODID:-//ChamberMaster//Event Calendar 2.0//EN
METHOD:PUBLISH
X-PUBLISHED-TTL:P3D
REFRESH-INTERVAL:P3D
CALSCALE:GREGORIAN
BEGIN:VEVENT
DTSTART:20191009T183000Z
DTEND:20191009T190000Z
X-MICROSOFT-CDO-ALLDAYEVENT:FALSE
SUMMARY:Smarty Pants Storytime at the La Verne Library
DESCRIPTION:Let?s get ready for school! Enjoy books\, songs\, rhymes\, and movement while learning school readiness skills and having fun!\n\nAttendance is limited and advanced registration is required. Registration for the new session begins Saturday\, September 14\, 2019\, at 9 am in person or by phone and ends when all available spots have been filled. Anyone who does not get into the current session will be given priority registration for a future session.\n\nFor ages 2 ? 5 with an adult caregiver.
X-ALT-DESC;FMTTYPE=text/html:<p style="box-sizing: border-box\; margin: 0px 0px 5px\; padding: 0px 0px 8px\; border: 0px\; font-variant-numeric: inherit\; font-variant-east-asian: inherit\; font-stretch: inherit\; line-height: 18.2px\; font-family: gibson-regular-webfont\; vertical-align: baseline\; position: relative\; letter-spacing: 0.7px\; color: rgb(0\, 0\, 0)\; float: none\; background-color: rgb(245\, 245\, 245)\;">Let?s get ready for school! Enjoy books\, songs\, rhymes\, and movement while learning school readiness skills and having fun!</p>\n\n<p style="box-sizing: border-box\; margin: 0px 0px 5px\; padding: 0px 0px 8px\; border: 0px\; font-variant-numeric: inherit\; font-variant-east-asian: inherit\; font-stretch: inherit\; line-height: 18.2px\; font-family: gibson-regular-webfont\; vertical-align: baseline\; position: relative\; letter-spacing: 0.7px\; color: rgb(0\, 0\, 0)\; float: none\; background-color: rgb(245\, 245\, 245)\;">Attendance is limited and advanced registration is required. Registration for the new session begins Saturday\, September 14\, 2019\, at 9 am in person or by phone and ends when all available spots have been filled. Anyone who does not get into the current session will be given priority registration for a future session.</p>\n\n<p style="box-sizing: border-box\; margin: 0px 0px 5px\; padding: 0px 0px 8px\; border: 0px\; font-variant-numeric: inherit\; font-variant-east-asian: inherit\; font-stretch: inherit\; line-height: 18.2px\; font-family: gibson-regular-webfont\; vertical-align: baseline\; position: relative\; letter-spacing: 0.7px\; color: rgb(0\, 0\, 0)\; float: none\; background-color: rgb(245\, 245\, 245)\;">For ages 2 ? 5 with an adult caregiver.</p>\n
LOCATION:La Verne Public Library
UID:e.1883.1744
SEQUENCE:3
DTSTAMP:20260421T161018Z
URL:https://business.lavernechamber.org/events/details/smarty-pants-storytime-at-the-la-verne-library-1744
END:VEVENT

END:VCALENDAR
