BEGIN:VCALENDAR
VERSION:2.0
PRODID:-//ChamberMaster//Event Calendar 2.0//EN
METHOD:PUBLISH
X-PUBLISHED-TTL:P3D
REFRESH-INTERVAL:P3D
CALSCALE:GREGORIAN
BEGIN:VEVENT
DTSTART:20190515T010000Z
DTEND:20190515T030000Z
X-MICROSOFT-CDO-ALLDAYEVENT:FALSE
SUMMARY:Spark Your Sense of Wander\, Small Group Travel Reinvented
DESCRIPTION:Join AAA Travel La Verne for a presentation!\n\n\n\nCultural Encounters\n\nCulinary Experiences\n\nSmall\, Like-Minded Groups\n\nSave an Additional $200 Per Couple*\n\n*restrictions apply
X-ALT-DESC;FMTTYPE=text/html:Join AAA Travel La Verne for a presentation!<br />\n<br />\nCultural Encounters<br />\nCulinary Experiences<br />\nSmall\, Like-Minded Groups<br />\nSave an Additional $200 Per Couple*<br />\n*restrictions apply
LOCATION:Via Verde Country Club
UID:e.1883.1378
SEQUENCE:3
DTSTAMP:20260421T235336Z
URL:https://business.lavernechamber.org/events/details/spark-your-sense-of-wander-small-group-travel-reinvented-1378
END:VEVENT

END:VCALENDAR
