BEGIN:VCALENDAR
VERSION:2.0
PRODID:-//ChamberMaster//Event Calendar 2.0//EN
METHOD:PUBLISH
X-PUBLISHED-TTL:P3D
REFRESH-INTERVAL:P3D
CALSCALE:GREGORIAN
BEGIN:VEVENT
DTSTART:20190320T010000Z
DTEND:20190320T023000Z
X-MICROSOFT-CDO-ALLDAYEVENT:FALSE
SUMMARY:Special Travel Presentation
DESCRIPTION:You're Invited! To a Special Travel Presentation\n \n\nImperial Cities\n\nfeaturing Prague\, Vienna & Budapest\n\nOctober 21   October 31\, 2019   11 Days   15 Meals\n\nHighlights\n\nPrague\, Prague Castle\, Lobkowicz Palace\, Choice on Tour\, Cesky Krumlov\, Vienna\, Grinzing Evening\, Classical Music Performances at Lobkowicz Palace\, Danube River Cruise\, Bratislava\, Budapest\, Matthias Church\, Fisherman's Bastion\, School Visit\, Visegrad\, Renaissance Dinner
X-ALT-DESC;FMTTYPE=text/html:<h4 class="no-mar-t" color:="" helvetica="" line-height:="" style="box-sizing: border-box\; margin: 0px 0px 10px\; padding: 0px\; border: 0px\; font-size: 18px\; vertical-align: baseline\; font-family: " text-align:=""><strong style="box-sizing: border-box\; margin: 0px\; padding: 0px\; border: 0px\; vertical-align: baseline\;">You&#39\;re Invited! To a Special Travel Presentation</strong></h4>\n&nbsp\;\n\n<h1 background-color:="" color:="" helvetica="" line-height:="" style="box-sizing: border-box\; margin: 0px\; padding: 0px\; border: 0px\; font-size: 3rem\; vertical-align: baseline\; font-family: ">Imperial Cities</h1>\n\n<p background-color:="" helvetica="" style="box-sizing: border-box\; margin: 0px 0px 10px\; padding: 0px\; border: 0px\; font-size: 14px\; vertical-align: baseline\; color: rgb(56\, 58\, 61)\; font-family: "><strong style="box-sizing: border-box\; margin: 0px\; padding: 0px\; border: 0px\; vertical-align: baseline\;"><i style="box-sizing: border-box\; margin: 0px\; padding: 0px\; border: 0px\; vertical-align: baseline\;">featuring Prague\, Vienna &amp\; Budapest</i></strong></p>\n\n<h4 background-color:="" color:="" helvetica="" line-height:="" style="box-sizing: border-box\; margin: 10px 0px\; padding: 0px\; border: 0px\; font-size: 18px\; vertical-align: baseline\; font-family: ">October 21 &mdash\; October 31\, 2019&nbsp\;<small style="box-sizing: border-box\; margin: 0px\; padding: 0px\; border: 0px\; font-size: 13.5px\; vertical-align: baseline\; line-height: 1\; color: inherit\;">&bull\;</small>&nbsp\;11 Days&nbsp\;<small style="box-sizing: border-box\; margin: 0px\; padding: 0px\; border: 0px\; font-size: 13.5px\; vertical-align: baseline\; line-height: 1\; color: inherit\;">&bull\;</small>&nbsp\;15 Meals</h4>\n\n<h3 class="block-title" color:="" helvetica="" line-height:="" style="box-sizing: border-box\; margin: 0px 0px 4rem\; padding: 0px\; border: 0px\; font-size: 24px\; vertical-align: baseline\; font-family: ">Highlights<br />\n<span style="font-size:18px\;">Prague\, Prague Castle\, Lobkowicz Palace\, Choice on Tour\, Cesky Krumlov\, Vienna\, Grinzing Evening\, Classical Music Performances at Lobkowicz Palace\, Danube River Cruise\, Bratislava\, Budapest\, Matthias Church\, Fisherman&#39\;s Bastion\, School Visit\, Visegrad\, Renaissance Dinner</span></h3>\n<br />\n&nbsp\;
LOCATION:Chase's La Verne 2079 Bonita Ave.
UID:e.1883.1302
SEQUENCE:3
DTSTAMP:20260422T011719Z
URL:https://business.lavernechamber.org/events/details/special-travel-presentation-1302
END:VEVENT

END:VCALENDAR
