BEGIN:VCALENDAR
VERSION:2.0
PRODID:-//ChamberMaster//Event Calendar 2.0//EN
METHOD:PUBLISH
X-PUBLISHED-TTL:P3D
REFRESH-INTERVAL:P3D
CALSCALE:GREGORIAN
BEGIN:VEVENT
DTSTART:20180328T160000Z
DTEND:20180328T162500Z
X-MICROSOFT-CDO-ALLDAYEVENT:FALSE
SUMMARY:Spring Sidewalk Coloring Contest
DESCRIPTION:Children 1 to 12 years can display their creative talents in the new Sidewalk Coloring Contest! Children will be drawing with chalk on their own sidewalk square. Prizes will be awarded in various age groups. Chalk is provided for all participants.\n\n\n\nAGES: 1 to 3 years\; 4 to 6 years\; 7 to 9 years\; 10 to 12 years
X-ALT-DESC;FMTTYPE=text/html:Children 1 to 12 years can display their creative talents in the new Sidewalk Coloring Contest! Children will be drawing with chalk on their own sidewalk square. Prizes will be awarded in various age groups. Chalk is provided for all participants.<br />\n<br />\nAGES: 1 to 3 years\; 4 to 6 years\; 7 to 9 years\; 10 to 12 years&nbsp\;
LOCATION:Mainero Square
UID:e.1883.515
SEQUENCE:3
DTSTAMP:20260422T194503Z
URL:https://business.lavernechamber.org/events/details/spring-sidewalk-coloring-contest-515
END:VEVENT

END:VCALENDAR
