BEGIN:VCALENDAR
VERSION:2.0
PRODID:-//ChamberMaster//Event Calendar 2.0//EN
METHOD:PUBLISH
X-PUBLISHED-TTL:P3D
REFRESH-INTERVAL:P3D
CALSCALE:GREGORIAN
BEGIN:VEVENT
DTSTART:20190621T013000Z
DTEND:20190621T033000Z
X-MICROSOFT-CDO-ALLDAYEVENT:FALSE
SUMMARY:St. Amant Winery Tasting
DESCRIPTION:We're thrilled to be featuring St. Amant Winery\, with Manager-at-Large\, Nathan Haberkern. \n\n\n\nSt. Amant winery has garnered a cult following among our big-red aficionados. They specialize in approachable small-production reds\, representing vineyards in both Amador and Lodi. \n\n\n\nEvent includes a tasting of five wines accompanied by a charcuterie board and light appetizers. \n\n\n\nLimited Seating Available
X-ALT-DESC;FMTTYPE=text/html:<span style="color: rgb(29\, 33\, 41)\; font-family: Helvetica\, Arial\, sans-serif\; font-size: 14px\; white-space: pre-wrap\;">We&rsquo\;re thrilled to be featuring St. Amant Winery\, with Manager-at-Large\, Nathan Haberkern. </span><br style="color: rgb(29\, 33\, 41)\; font-family: Helvetica\, Arial\, sans-serif\; font-size: 14px\; white-space: pre-wrap\;" />\n<br style="color: rgb(29\, 33\, 41)\; font-family: Helvetica\, Arial\, sans-serif\; font-size: 14px\; white-space: pre-wrap\;" />\n<span style="color: rgb(29\, 33\, 41)\; font-family: Helvetica\, Arial\, sans-serif\; font-size: 14px\; white-space: pre-wrap\;">St. Amant winery has garnered a cult following among our big-red aficionados. They specialize in approachable small-production reds\, representing vineyards in both Amador and Lodi. </span><br style="color: rgb(29\, 33\, 41)\; font-family: Helvetica\, Arial\, sans-serif\; font-size: 14px\; white-space: pre-wrap\;" />\n<br style="color: rgb(29\, 33\, 41)\; font-family: Helvetica\, Arial\, sans-serif\; font-size: 14px\; white-space: pre-wrap\;" />\n<span style="color: rgb(29\, 33\, 41)\; font-family: Helvetica\, Arial\, sans-serif\; font-size: 14px\; white-space: pre-wrap\;">Event includes a tasting of five wines accompanied by a charcuterie board and light appetizers. </span><br style="color: rgb(29\, 33\, 41)\; font-family: Helvetica\, Arial\, sans-serif\; font-size: 14px\; white-space: pre-wrap\;" />\n<br style="color: rgb(29\, 33\, 41)\; font-family: Helvetica\, Arial\, sans-serif\; font-size: 14px\; white-space: pre-wrap\;" />\n<span style="color: rgb(29\, 33\, 41)\; font-family: Helvetica\, Arial\, sans-serif\; font-size: 14px\; white-space: pre-wrap\;">Limited Seating Available</span>
LOCATION:Third Street Wine
UID:e.1883.1454
SEQUENCE:3
DTSTAMP:20260421T204242Z
URL:https://business.lavernechamber.org/events/details/st-amant-winery-tasting-1454
END:VEVENT

END:VCALENDAR
