BEGIN:VCALENDAR
VERSION:2.0
PRODID:-//ChamberMaster//Event Calendar 2.0//EN
METHOD:PUBLISH
X-PUBLISHED-TTL:P3D
REFRESH-INTERVAL:P3D
CALSCALE:GREGORIAN
BEGIN:VEVENT
DTSTART:20190804T170000Z
DTEND:20190805T010000Z
X-MICROSOFT-CDO-ALLDAYEVENT:FALSE
SUMMARY:Staples Back to School Block Party
DESCRIPTION:This summer\, we're bringing everyone together for a fun filled 2 day event made for students\, parents and teachers. Enjoy raffles\, giveaways and more
X-ALT-DESC;FMTTYPE=text/html:<span style="color: rgb(0\, 0\, 0)\; font-family: &quot\;Motiva Sans&quot\;\, Arial\, sans-serif\; font-size: 16px\; font-variant-ligatures: none\;">This summer\, we&rsquo\;re bringing everyone together for a fun&ndash\;filled 2&ndash\;day event made for students\, parents and teachers. Enjoy raffles\, giveaways and more&nbsp\;</span>
LOCATION:Staples
UID:e.1883.1498
SEQUENCE:3
DTSTAMP:20260421T190822Z
URL:https://business.lavernechamber.org/events/details/staples-back-to-school-block-party-1498
END:VEVENT

END:VCALENDAR
