BEGIN:VCALENDAR
VERSION:2.0
PRODID:-//ChamberMaster//Event Calendar 2.0//EN
METHOD:PUBLISH
X-PUBLISHED-TTL:P3D
REFRESH-INTERVAL:P3D
CALSCALE:GREGORIAN
BEGIN:VEVENT
DTSTART:20180124T173000Z
DTEND:20180124T193000Z
X-MICROSOFT-CDO-ALLDAYEVENT:FALSE
SUMMARY:Starting Your Small Business
DESCRIPTION:Start your business off right & learn the fundamentals about\n\nbusiness planning\, break-even analysis\, marketing\, licenses &\n\npermits and much more.\n\n\n\n\n\n \n\nSIGN UP NOW!\n\nhttp://bit.ly/2AWALWH
X-ALT-DESC;FMTTYPE=text/html:<p>Start your business off right &amp\; learn the fundamentals about</p>\n\n<p>business planning\, break-even analysis\, marketing\, licenses &amp\;</p>\n\n<p>permits and much more.<br />\n<br />\n<br />\n&nbsp\;</p>\n\n<p><strong>SIGN UP NOW!</strong></p>\n\n<p><strong>http://bit.ly/2AWALWH</strong></p>\n
LOCATION:WHERE: 2000 SECOND ST. LA VERNE\, CA 91750
UID:e.1883.475
SEQUENCE:3
DTSTAMP:20260422T225927Z
URL:https://business.lavernechamber.org/events/details/starting-your-small-business-475
END:VEVENT

END:VCALENDAR
