BEGIN:VCALENDAR
VERSION:2.0
PRODID:-//ChamberMaster//Event Calendar 2.0//EN
METHOD:PUBLISH
X-PUBLISHED-TTL:P3D
REFRESH-INTERVAL:P3D
CALSCALE:GREGORIAN
BEGIN:VEVENT
DTSTART:20181214T020000Z
DTEND:20181214T050000Z
X-MICROSOFT-CDO-ALLDAYEVENT:FALSE
SUMMARY:Suds\, Duds & Gems
DESCRIPTION:La Verne Bewing Co. Presents\n\nSuds\, Duds & Gems\n\n\n\nA pop-up Holiday Shop featuring:\n\nMicky's Jewelry Studio\n\n&\n\nThe Yellow Awning Fashio Truck
X-ALT-DESC;FMTTYPE=text/html:<div style="text-align: center\;">La Verne Bewing Co. Presents<br />\nSuds\, Duds &amp\; Gems<br />\n<br />\nA pop-up Holiday Shop featuring:<br />\nMicky&#39\;s Jewelry Studio<br />\n&amp\;<br />\nThe Yellow Awning Fashio Truck</div>\n
LOCATION:La Verne Berwing Co. 2125 Wright Ave.\, Suite C-15
UID:e.1883.1258
SEQUENCE:3
DTSTAMP:20260422T055609Z
URL:https://business.lavernechamber.org/events/details/suds-duds-gems-1258
END:VEVENT

END:VCALENDAR
