BEGIN:VCALENDAR
VERSION:2.0
PRODID:-//ChamberMaster//Event Calendar 2.0//EN
METHOD:PUBLISH
X-PUBLISHED-TTL:P3D
REFRESH-INTERVAL:P3D
CALSCALE:GREGORIAN
BEGIN:VEVENT
DTSTART:20180729T170000Z
DTEND:20180729T230000Z
X-MICROSOFT-CDO-ALLDAYEVENT:FALSE
SUMMARY:Sunday Brunch!
DESCRIPTION:We are opened for Brunch this Sunday!
X-ALT-DESC;FMTTYPE=text/html:<br />\nWe are opened for Brunch this Sunday!
LOCATION:Chase's Old Town.La Verne
UID:e.1883.991
SEQUENCE:3
DTSTAMP:20260422T133338Z
URL:https://business.lavernechamber.org/events/details/sunday-brunch-991
END:VEVENT

END:VCALENDAR
