BEGIN:VCALENDAR
VERSION:2.0
PRODID:-//ChamberMaster//Event Calendar 2.0//EN
METHOD:PUBLISH
X-PUBLISHED-TTL:P3D
REFRESH-INTERVAL:P3D
CALSCALE:GREGORIAN
BEGIN:VEVENT
DTSTART:20191209T020000Z
DTEND:20191209T033000Z
X-MICROSOFT-CDO-ALLDAYEVENT:FALSE
SUMMARY:Sundays at the Morgan: ULV Choral Holiday Spectacular
DESCRIPTION:Celebrate the holidays by joining us December 8 for ULV's Choral Holiday Spectacular Concert featuring the University Chamber Singers and Chorale. Bring the whole family to hear timeless carols and your favorite holiday songs. Special guest appearance by the man in the red suit!
X-ALT-DESC;FMTTYPE=text/html:Celebrate the holidays by joining us December 8 for ULV&#39\;s Choral Holiday Spectacular Concert featuring the University Chamber Singers and Chorale. Bring the whole family to hear timeless carols and your favorite holiday songs. Special guest appearance by the man in the red suit!\n<div id="UMS_TOOLTIP" style="position: absolute\; cursor: pointer\; z-index: 2147483647\; background: transparent\; top: -100000px\; left: -100000px\;">&nbsp\;</div>\n
LOCATION:Morgan Auditorium
UID:e.1883.2124
SEQUENCE:3
DTSTAMP:20260421T161939Z
URL:https://business.lavernechamber.org/events/details/sundays-at-the-morgan-ulv-choral-holiday-spectacular-2124
END:VEVENT

END:VCALENDAR
