BEGIN:VCALENDAR
VERSION:2.0
PRODID:-//ChamberMaster//Event Calendar 2.0//EN
METHOD:PUBLISH
X-PUBLISHED-TTL:P3D
REFRESH-INTERVAL:P3D
CALSCALE:GREGORIAN
BEGIN:VEVENT
DTSTART:20141109T013000Z
DTEND:20141109T040000Z
X-MICROSOFT-CDO-ALLDAYEVENT:FALSE
SUMMARY:Taste of La Verne a Food & Wine Extravaganza
DESCRIPTION:A food & wine extravaganza to please any palate.  Fine foods from some of the best local restaurants and wines from celebrated local wineries.  Selected wines will be available for purchase by the bottle.
X-ALT-DESC;FMTTYPE=text/html:A food &amp\; wine extravaganza to please any palate.&nbsp\; Fine foods from some of the best local restaurants and wines from celebrated local wineries.&nbsp\; Selected wines will be available for purchase by the bottle.
LOCATION:Sheraton Fairplex Conference Center
UID:e.1883.63
SEQUENCE:3
DTSTAMP:20260425T113416Z
URL:https://business.lavernechamber.org/events/details/taste-of-la-verne-a-food-wine-extravaganza-11-08-2014-63
END:VEVENT

END:VCALENDAR
