BEGIN:VCALENDAR
VERSION:2.0
PRODID:-//ChamberMaster//Event Calendar 2.0//EN
METHOD:PUBLISH
X-PUBLISHED-TTL:P3D
REFRESH-INTERVAL:P3D
CALSCALE:GREGORIAN
BEGIN:VEVENT
DTSTART:20191017T010000Z
DTEND:20191017T040000Z
X-MICROSOFT-CDO-ALLDAYEVENT:FALSE
SUMMARY:Taste of La Verne Food & Wine Festival
DESCRIPTION:ON LINE TICKET SALES ARE CLOSED\, YOU CAN STILL PURCHASE TICKETS AT THE VENUE\n\nJoin us for our 20th Annual Taste of La Verne\n\nA food & wine festival to please any palate.  We will be returning to Brackett Airport for this milestone event. This event will feature music\, beer\, wine\, spirits and of course\, great food! For one low price attendees can sample mouth-watering appetizers\, entrees\, desserts\, pastries\, and beverages from some of the area's finest restaurants\, caterers\, bakeries\, and beverage companies. \n\n    Helicopter tours will be available for purchase from Hangar 21!
X-ALT-DESC;FMTTYPE=text/html:ON LINE TICKET SALES ARE CLOSED\, YOU CAN STILL PURCHASE TICKETS AT THE VENUE<br />\nJoin us for our 20th Annual Taste of La Verne<br />\nA food &amp\; wine festival to please any palate.&nbsp\; <span style="color:black\;">We will be returning to Brackett Airport for this milestone event. This event will feature music\, beer\, wine\, spirits and of course\, great food! </span><span style="color:black\;">For one low price attendees can sample mouth-watering appetizers\, entrees\, desserts\, pastries\,</span> <span style="color:black\;">and beverages from some of the area&#39\;s finest restaurants\, caterers\, bakeries\, and beverage companies.&nbsp\;</span><br />\n&nbsp\;&nbsp\; &nbsp\;Helicopter tours will be available for purchase from Hangar 21!<br />\n<br />\n&nbsp\;
LOCATION:Coastal Helicopters at Brackett Field Airport
UID:e.1883.1291
SEQUENCE:3
DTSTAMP:20260421T145339Z
URL:https://business.lavernechamber.org/events/details/taste-of-la-verne-food-wine-festival-1291
END:VEVENT

END:VCALENDAR
