BEGIN:VCALENDAR
VERSION:2.0
PRODID:-//ChamberMaster//Event Calendar 2.0//EN
METHOD:PUBLISH
X-PUBLISHED-TTL:P3D
REFRESH-INTERVAL:P3D
CALSCALE:GREGORIAN
BEGIN:VEVENT
DTSTART:20171011T000000Z
DTEND:20171011T040000Z
X-MICROSOFT-CDO-ALLDAYEVENT:FALSE
SUMMARY:Taste of La Verne Food & Wine Festival
DESCRIPTION:A food & wine festival to please any palate.  Fine foods from some of the best local restaurants and wines from celebrated local wineries.  \n\n\n\nON LINE TICKET SALES ARE CLOSED\, TICKETS ARE AVAILABLE AT THE DOOR!
X-ALT-DESC;FMTTYPE=text/html:A food &amp\; wine festival to please any palate.&nbsp\; Fine foods from some of the best local restaurants and wines from celebrated local wineries. &nbsp\;<br />\n<br />\nON LINE TICKET SALES ARE CLOSED\, TICKETS ARE AVAILABLE AT THE DOOR!&nbsp\;
LOCATION:Sky Aviation Hangar at Brackett Field Airport 1615 McKinley Ave.
UID:e.1883.193
SEQUENCE:3
DTSTAMP:20260423T033059Z
URL:https://business.lavernechamber.org/events/details/taste-of-la-verne-food-wine-festival-193
END:VEVENT

END:VCALENDAR
