BEGIN:VCALENDAR
VERSION:2.0
PRODID:-//ChamberMaster//Event Calendar 2.0//EN
METHOD:PUBLISH
X-PUBLISHED-TTL:P3D
REFRESH-INTERVAL:P3D
CALSCALE:GREGORIAN
BEGIN:VEVENT
DTSTART:20181017T000000Z
DTEND:20181017T040000Z
X-MICROSOFT-CDO-ALLDAYEVENT:FALSE
SUMMARY:Taste of La Verne Food & Wine Festival
DESCRIPTION:ONLINE SALES ARE NOW CLOSED\, YOU CAN STILL PURCHASE TICKETS AT THE DOOR\n\nA food & wine festival to please any palate.  Fine foods from some of the best local restaurants and wines from celebrated local wineries.
X-ALT-DESC;FMTTYPE=text/html:ONLINE SALES ARE NOW CLOSED\, YOU CAN STILL PURCHASE TICKETS AT THE DOOR<br />\nA food &amp\; wine festival to please any palate.&nbsp\; Fine foods from some of the best local restaurants and wines from celebrated local wineries. &nbsp\;<br />\n<br />\n&nbsp\;
LOCATION:Sky Aviation Hangar at Brackett Field Airport 1615 McKinley Ave.
UID:e.1883.650
SEQUENCE:3
DTSTAMP:20260422T091219Z
URL:https://business.lavernechamber.org/events/details/taste-of-la-verne-food-wine-festival-650
END:VEVENT

END:VCALENDAR
