BEGIN:VCALENDAR
VERSION:2.0
PRODID:-//ChamberMaster//Event Calendar 2.0//EN
METHOD:PUBLISH
X-PUBLISHED-TTL:P3D
REFRESH-INTERVAL:P3D
CALSCALE:GREGORIAN
BEGIN:VEVENT
DTSTART:20140514T000000Z
DTEND:20140514T040000Z
X-MICROSOFT-CDO-ALLDAYEVENT:FALSE
SUMMARY:Teacher of the Year Awards Banquet
DESCRIPTION:Annual event honoring 1 teacher from each of the 13 schools in La Verne
X-ALT-DESC;FMTTYPE=text/html:Annual event honoring 1 teacher from each of the 13 schools in La Verne
LOCATION:Sierra La Verne Country Club\, 6300 Country CLub Dr\, La Verne
UID:e.1883.45
SEQUENCE:3
DTSTAMP:20260425T210124Z
URL:https://business.lavernechamber.org/events/details/teacher-of-the-year-awards-banquet-05-13-2014-45
END:VEVENT

END:VCALENDAR
