BEGIN:VCALENDAR
VERSION:2.0
PRODID:-//ChamberMaster//Event Calendar 2.0//EN
METHOD:PUBLISH
X-PUBLISHED-TTL:P3D
REFRESH-INTERVAL:P3D
CALSCALE:GREGORIAN
BEGIN:VEVENT
DTSTART:20171220T153000Z
DTEND:20171220T170000Z
X-MICROSOFT-CDO-ALLDAYEVENT:FALSE
SUMMARY:TEAM Referral Network Information Session
DESCRIPTION:TEAM Referral Network helps local business owners to build a group of intensely dedicated professionals who refer business to each other with the common goal of helping each member's business prosper\, \n\n						Take charge of your business and network with this dynamic group of entrepreneurs before your business category is taken. \n\n						We are looking for successful people who want to partner with successful people to become more successful together. \n					\n				\n			\n			\n			\n			\n				\n					\n						TEAM offers:\n						\n							Exclusive business category networking \n							Structured weekly meetings \n							Strong & committed "Sales TEAM" \n							Relationship Marketing \n						\n						When: Wednesday\, Dec. 20 \n\n						Where: Peppertree Cafe\, 1020 E Route 66 Glendora\, 91740 \n\n						Time: 7:30 AM - 9:00 AM \n\n						Cost to attend is the price of your breakfast
X-ALT-DESC;FMTTYPE=text/html:<table align="center" border="0" cellpadding="0" cellspacing="0" style="border-collapse:collapse\;">\n	<tbody>\n		<tr>\n			<td style="width:300px\;padding:0in 0in 0in 0in\;vertical-align:top\;">\n			<table border="0" cellpadding="0" cellspacing="0" style="width:100.0%\;border-collapse:collapse\;" width="100%">\n				<tbody>\n					<tr>\n						<td style="padding:11.25pt 11.25pt 11.25pt 11.25pt\;"><strong><em><span style="color:#3A7522\;"><span style="font-family:arial\,sans-serif\;"><span style="font-size:10.5pt\;">TEAM Referral Network</span></span></span></em></strong> <span style="color:#343434\;"><span style="font-family:arial\,sans-serif\;"><span style="font-size:10.5pt\;">helps local business owners to build a group of intensely dedicated professionals who refer business to each other with the common goal of helping each member&#39\;s business prosper\, </span></span></span><br />\n						<span style="color:#343434\;"><span style="font-family:arial\,sans-serif\;"><span style="font-size:10.5pt\;">Take charge of your business and network with this dynamic group of entrepreneurs before your business category is taken. </span></span></span><br />\n						<span style="color:#343434\;"><span style="font-family:arial\,sans-serif\;"><span style="font-size:10.5pt\;">We are looking for successful people who want to partner with successful people to become more successful together. </span></span></span></td>\n					</tr>\n				</tbody>\n			</table>\n			</td>\n			<td style="width:300px\;padding:0in 0in 0in 0in\;word-wrap:break-word\;word-break:break-word\;vertical-align:top\;">\n			<table border="0" cellpadding="0" cellspacing="0" style="width:100.0%\;border-collapse:collapse\;" width="100%">\n				<tbody>\n					<tr>\n						<td style="padding:11.25pt 11.25pt 11.25pt 11.25pt\;"><strong><em><span style="color:#3A7522\;"><span style="font-family:arial\,sans-serif\;"><span style="font-size:10.5pt\;">TEAM </span></span></span></em></strong><em><span style="color:#343434\;"><span style="font-family:arial\,sans-serif\;"><span style="font-size:10.5pt\;">offers:</span></span></span></em>\n						<ul>\n							<li style="color:#343434\;"><span style="font-family:arial\,sans-serif\;"><span style="font-size:10.5pt\;">Exclusive business category networking </span></span></li>\n							<li style="color:#343434\;"><span style="font-family:arial\,sans-serif\;"><span style="font-size:10.5pt\;">Structured weekly meetings </span></span></li>\n							<li style="color:#343434\;"><span style="font-family:arial\,sans-serif\;"><span style="font-size:10.5pt\;">Strong &amp\; committed &quot\;Sales TEAM&quot\; </span></span></li>\n							<li style="color:#343434\;"><span style="font-family:arial\,sans-serif\;"><span style="font-size:10.5pt\;">Relationship Marketing </span></span></li>\n						</ul>\n						<strong><span style="color:#343434\;"><span style="font-family:arial\,sans-serif\;"><span style="font-size:10.5pt\;">When</span></span></span></strong><span style="color:#343434\;"><span style="font-family:arial\,sans-serif\;"><span style="font-size:10.5pt\;">: Wednesday\, Dec. 20 </span></span></span><br />\n						<strong><span style="color:#343434\;"><span style="font-family:arial\,sans-serif\;"><span style="font-size:10.5pt\;">Where</span></span></span></strong><span style="color:#343434\;"><span style="font-family:arial\,sans-serif\;"><span style="font-size:10.5pt\;">: Peppertree Cafe\, 1020 E Route 66 Glendora\, 91740 </span></span></span><br />\n						<strong><span style="color:#343434\;"><span style="font-family:arial\,sans-serif\;"><span style="font-size:10.5pt\;">Time</span></span></span></strong><span style="color:#343434\;"><span style="font-family:arial\,sans-serif\;"><span style="font-size:10.5pt\;">: 7:30 AM - 9:00 AM </span></span></span><br />\n						<span style="color:#343434\;"><span style="font-family:arial\,sans-serif\;"><span style="font-size:10.5pt\;">Cost to attend is the price of your breakfast </span></span></span></td>\n					</tr>\n				</tbody>\n			</table>\n			</td>\n		</tr>\n	</tbody>\n</table>\n\n<div style="clear:both\;">&nbsp\;</div>\n
LOCATION:Peppertree Cafe\, 1020 E Route 66 Glendora\, 91740
UID:e.1883.473
SEQUENCE:3
DTSTAMP:20260423T014704Z
URL:https://business.lavernechamber.org/events/details/team-referral-network-information-session-473
END:VEVENT

END:VCALENDAR
