BEGIN:VCALENDAR
VERSION:2.0
PRODID:-//ChamberMaster//Event Calendar 2.0//EN
METHOD:PUBLISH
X-PUBLISHED-TTL:P3D
REFRESH-INTERVAL:P3D
CALSCALE:GREGORIAN
BEGIN:VEVENT
DTSTART:20191017T180000Z
DTEND:20191018T010000Z
X-MICROSOFT-CDO-ALLDAYEVENT:FALSE
SUMMARY:TEAM Referral Network's The BIG Event
DESCRIPTION:What Happens at the\n\nBIG Event?\n\n\n\n* Incredible Opportunities for Business & Personal Growth\n\n* World-Class Speakers\n\n* First-Rate Networking\n\n* Top-Notch Exhibitors\n\n* Door Prizes\n\n* Give-aways\n\nBonus: Five-Star Food\n\n\n\nInvest in Yourself & Your Business\n\nTime to get re-energized\, recommitted and re-focused on growing your business and yourself.
X-ALT-DESC;FMTTYPE=text/html:<p class="text-center" style="margin:0in\;margin-bottom:.0001pt"><span style="font-size:16px\;">What Happens at the<br />\n<span style="font-size:22px\;">BIG Event?</span><br />\n<br />\n* Incredible Opportunities for Business &amp\; Personal Growth<br />\n* World-Class Speakers<br />\n* First-Rate Networking<br />\n* Top-Notch Exhibitors<br />\n* Door Prizes<br />\n* Give-aways<br />\nBonus: Five-Star Food<br />\n<br />\n<strong>Invest in Yourself &amp\; Your Business</strong><br />\nTime to get re-energized\, recommitted and re-focused on growing your business and yourself.&nbsp\;</span></p>\n
LOCATION:Sheraton Fairplex Hotel & Conference Center
UID:e.1883.1785
SEQUENCE:3
DTSTAMP:20260421T144854Z
URL:https://business.lavernechamber.org/events/details/team-referral-network-s-the-big-event-1785
END:VEVENT

END:VCALENDAR
