BEGIN:VCALENDAR
VERSION:2.0
PRODID:-//ChamberMaster//Event Calendar 2.0//EN
METHOD:PUBLISH
X-PUBLISHED-TTL:P3D
REFRESH-INTERVAL:P3D
CALSCALE:GREGORIAN
BEGIN:VEVENT
DTSTART:20191216T230000Z
DTEND:20191217T000000Z
X-MICROSOFT-CDO-ALLDAYEVENT:FALSE
SUMMARY:Teen Advisory Board and Adult 101
DESCRIPTION:Earn volunteer hours and make an impact in your community! Join the Teen Advisory Board and help improve library services for teens. Adult 101 will discuss financial skills while personalizing piggy banks.\n\nAges 12   17
X-ALT-DESC;FMTTYPE=text/html:<div><span style="font-size: 13px\;">Earn volunteer hours and make an impact in your community! Join the Teen Advisory Board and help improve library services for teens. Adult 101 will discuss financial skills while personalizing piggy banks.</span></div>\n\n<div><span style="font-size: 13px\;">Ages 12 &ndash\; 17</span></div>\n
LOCATION:La Verne Public Library
UID:e.1883.2137
SEQUENCE:3
DTSTAMP:20260421T161939Z
URL:https://business.lavernechamber.org/events/details/teen-advisory-board-and-adult-101-2137
END:VEVENT

END:VCALENDAR
