BEGIN:VCALENDAR
VERSION:2.0
PRODID:-//ChamberMaster//Event Calendar 2.0//EN
METHOD:PUBLISH
X-PUBLISHED-TTL:P3D
REFRESH-INTERVAL:P3D
CALSCALE:GREGORIAN
BEGIN:VEVENT
DTSTART:20181025T180000Z
DTEND:20181026T020000Z
X-MICROSOFT-CDO-ALLDAYEVENT:FALSE
SUMMARY:The BIG Event
DESCRIPTION:TEAM's BIG Event Thursday October 25th.  It will be featuring experts in Marketing\, NLP/Mindset\, Social Media\; a HUGE Speed Networking Exercise\, Expo\, Food\, gifts/prizes and featuring Brian Smith\, Founder of Ugg sharing his story "The Birth of a Brand".
X-ALT-DESC;FMTTYPE=text/html:<span style="font-family:calibri\,sans-serif\;"><span style="font-size:11.0pt\;">TEAM&rsquo\;s BIG Event Thursday October 25<sup>th.&nbsp\;</sup>&nbsp\;It will be featuring experts in Marketing\, NLP/Mindset\, Social Media\; a HUGE Speed Networking Exercise\, Expo\, Food\, gifts/prizes and featuring Brian Smith\, Founder of Ugg sharing his story &ldquo\;The Birth of a Brand&rdquo\;.&nbsp\;</span></span>
LOCATION:Sheraton Fairplex Hotel & Conference Center\, Pomona CA 601 W McKinley Ave\, Pomona\, CA 91768
UID:e.1883.1228
SEQUENCE:3
DTSTAMP:20260422T090216Z
URL:https://business.lavernechamber.org/events/details/the-big-event-1228
END:VEVENT

END:VCALENDAR
