BEGIN:VCALENDAR
VERSION:2.0
PRODID:-//ChamberMaster//Event Calendar 2.0//EN
METHOD:PUBLISH
X-PUBLISHED-TTL:P3D
REFRESH-INTERVAL:P3D
CALSCALE:GREGORIAN
BEGIN:VEVENT
DTSTART:20190704T164000Z
DTEND:20190704T170000Z
X-MICROSOFT-CDO-ALLDAYEVENT:FALSE
SUMMARY:The Pre-parade Harley Ride
DESCRIPTION:Two-hundred shiny motorcycles ride through the parade route carrying flags representing the United States\, all 50 states\, historical flags\, and flags representing all branches of the military.
X-ALT-DESC;FMTTYPE=text/html:<span style="font-size: 11pt\; line-height: 107%\; font-family: &quot\;Times New Roman&quot\;\, serif\; color: rgb(49\, 49\, 49)\; background-image: initial\; background-position: initial\; background-size: initial\; background-repeat: initial\; background-attachment: initial\; background-origin: initial\; background-clip: initial\;">Two-hundred shiny motorcycles ride through the parade route carrying flags representing the United States\, all 50 states\, historical flags\, and flags representing all branches of the military.&nbsp\;</span>
LOCATION:The Parade Begins on the corner of 10th Street and D Street
UID:e.1883.1432
SEQUENCE:3
DTSTAMP:20260421T204259Z
URL:https://business.lavernechamber.org/events/details/the-pre-parade-harley-ride-1432
END:VEVENT

END:VCALENDAR
