BEGIN:VCALENDAR
VERSION:2.0
PRODID:-//ChamberMaster//Event Calendar 2.0//EN
METHOD:PUBLISH
X-PUBLISHED-TTL:P3D
REFRESH-INTERVAL:P3D
CALSCALE:GREGORIAN
BEGIN:VEVENT
DTSTART;VALUE=DATE:20180325
DTEND;VALUE=DATE:20180326
TRANSP:TRANSPARENT
X-MICROSOFT-CDO-ALLDAYEVENT:TRUE
SUMMARY:The Wall That Heals
DESCRIPTION:The Wall That Heals\, a replica of the Vietnam Veterans Memorial\, along with a mobile Education Center\, is coming to San Dimas. The Wall That Heals honors the more than three million Americans who served in the U.S. Armed forces in the Vietnam War and bears the names of the more than 58\,000 men and women who made the ultimate sacrifice in Vietnam.\n\n\n\n The Wall That Heals will be at at Lone Hill Middle School March 22 -25\, 2018\, and will be open 24 hours a day and is free to the public
X-ALT-DESC;FMTTYPE=text/html:The Wall That Heals\, a replica of the Vietnam Veterans Memorial\, along with a mobile Education Center\, is coming to San&nbsp\;Dimas. The Wall That Heals honors the more than three million Americans who served in the U.S. Armed forces in the Vietnam War and bears the names of the more than 58\,000 men and women who made the ultimate sacrifice in Vietnam.<br />\n<br />\n&nbsp\;The Wall That Heals will be at at Lone Hill Middle School March 22 -25\, 2018\, and will be open 24 hours a day&nbsp\;and is free to the public
LOCATION:Lone Hill Middle School 700 S Lone Hill Ave. San Dimas
UID:e.1883.559
SEQUENCE:3
DTSTAMP:20260422T194641Z
URL:https://business.lavernechamber.org/events/details/the-wall-that-heals-03-25-2018-559
END:VEVENT

END:VCALENDAR
