BEGIN:VCALENDAR
VERSION:2.0
PRODID:-//ChamberMaster//Event Calendar 2.0//EN
METHOD:PUBLISH
X-PUBLISHED-TTL:P3D
REFRESH-INTERVAL:P3D
CALSCALE:GREGORIAN
BEGIN:VEVENT
DTSTART:20170819T170000Z
DTEND:20170819T190000Z
X-MICROSOFT-CDO-ALLDAYEVENT:FALSE
SUMMARY:The Wedding of Miss Lordsburg to Mr. La Verne
DESCRIPTION:What's in a name? You'll find out on Saturday\, August 19th. One hundred years ago the city of Lordsburg changed its name to La Verne and citizens celebrated with a "mock wedding." Today's citizens will re-enact the "Mock Wedding of Miss Lordsburg and Mr. La Verne" on Saturday\, August 19th\, at 10:00 am on "D" Street in downtown La Verne. Mayor of La Verne Don Kendrick will "officiate" as Justice of the Peace as we celebrate local history. Come join the fun!
X-ALT-DESC;FMTTYPE=text/html:<span style="color: rgb(29\, 33\, 41)\; font-family: Helvetica\, Arial\, sans-serif\; font-size: 14px\;">What&rsquo\;s in a name? You&rsquo\;ll find out on Saturday\, August 19th. One hundred years ago the city of Lordsburg changed its name to La Verne and citizens celebrated with a &ldquo\;mock wedding.&rdquo\; Today&rsquo\;s citizens will re-enact the &ldquo\;Mock Wedding of Miss Lordsburg and Mr. La Verne&rdquo\; on Saturday\, August 19th\, at 10:00 am on &ldquo\;D&rdquo\; Street in downtown La Verne. Mayor of La Verne Don Kendrick will &ldquo\;officiate&rdquo\; as Justice of the Peace as we celebrate local history. Come join the fun!&nbsp\;</span>
LOCATION:Mainiero Square Corner of D Street and Third Street
UID:e.1883.175
SEQUENCE:3
DTSTAMP:20260423T063748Z
URL:https://business.lavernechamber.org/events/details/the-wedding-of-miss-lordsburg-to-mr-la-verne-175
END:VEVENT

END:VCALENDAR
