BEGIN:VCALENDAR
VERSION:2.0
PRODID:-//ChamberMaster//Event Calendar 2.0//EN
METHOD:PUBLISH
X-PUBLISHED-TTL:P3D
REFRESH-INTERVAL:P3D
CALSCALE:GREGORIAN
BEGIN:VEVENT
DTSTART:20180725T181500Z
DTEND:20180725T190000Z
X-MICROSOFT-CDO-ALLDAYEVENT:FALSE
SUMMARY:Toddler Storytime at the La Verne Library
DESCRIPTION:Join us for stories\, fingerplays\, songs & an art activity.\n\nFor children ages 1-3 & their caregivers
X-ALT-DESC;FMTTYPE=text/html:Join us for stories\, fingerplays\, songs &amp\; an art activity.<br />\nFor children ages 1-3 &amp\; their caregivers
LOCATION:La Verne Library 3640 D Street
UID:e.1883.720
SEQUENCE:3
DTSTAMP:20260422T133932Z
URL:https://business.lavernechamber.org/events/details/toddler-storytime-at-the-la-verne-library-720
END:VEVENT

END:VCALENDAR
