BEGIN:VCALENDAR
VERSION:2.0
PRODID:-//ChamberMaster//Event Calendar 2.0//EN
METHOD:PUBLISH
X-PUBLISHED-TTL:P3D
REFRESH-INTERVAL:P3D
CALSCALE:GREGORIAN
BEGIN:VEVENT
DTSTART:20171205T023000Z
DTEND:20171205T033000Z
X-MICROSOFT-CDO-ALLDAYEVENT:FALSE
SUMMARY:Tree Lighting Ceremony
DESCRIPTION:The annual City Tree Lighting Ceremony will be held on Monday\, December 1\, at 6:30 p.m. before the City Council meeting.  There will be entertainment and a special visit by Santa Claus!
X-ALT-DESC;FMTTYPE=text/html:<span style="color: rgb(69\, 44\, 3)\; font-family: Arimo\, Arial\, &quot\;Arial Unicode MS&quot\;\, Helvetica\, sans-serif\; font-size: 11px\; background-color: rgb(254\, 242\, 221)\;">The annual City Tree Lighting Ceremony will be held on&nbsp\;Monday\, December 1\, at 6:30 p.m. before the City&nbsp\;Council meeting.&nbsp\; There will be entertainment and a&nbsp\;special visit by Santa Claus!</span>
LOCATION:The ceremony will be held in front of City Hall located at 3660 "D" Street\, La Verne.
UID:e.1883.426
SEQUENCE:3
DTSTAMP:20260423T002347Z
URL:https://business.lavernechamber.org/events/details/tree-lighting-ceremony-426
END:VEVENT

END:VCALENDAR
