BEGIN:VCALENDAR
VERSION:2.0
PRODID:-//ChamberMaster//Event Calendar 2.0//EN
METHOD:PUBLISH
X-PUBLISHED-TTL:P3D
REFRESH-INTERVAL:P3D
CALSCALE:GREGORIAN
BEGIN:VEVENT
DTSTART:20180731T180000Z
DTEND:20180731T190000Z
X-MICROSOFT-CDO-ALLDAYEVENT:FALSE
SUMMARY:Tuesday Art Days at the La Verne Library
DESCRIPTION:Are you Creative? Come create at the library!
X-ALT-DESC;FMTTYPE=text/html:Are you Creative? Come create at the library!
LOCATION:La Verne Library 3640 D Street
UID:e.1883.713
SEQUENCE:3
DTSTAMP:20260422T133845Z
URL:https://business.lavernechamber.org/events/details/tuesday-art-days-at-the-la-verne-library-713
END:VEVENT

END:VCALENDAR
