BEGIN:VCALENDAR
VERSION:2.0
PRODID:-//ChamberMaster//Event Calendar 2.0//EN
METHOD:PUBLISH
X-PUBLISHED-TTL:P3D
REFRESH-INTERVAL:P3D
CALSCALE:GREGORIAN
BEGIN:VEVENT
DTSTART:20191011T000000Z
DTEND:20191011T020000Z
X-MICROSOFT-CDO-ALLDAYEVENT:FALSE
SUMMARY:University of La Verne Presents Poetry Festival 2019
DESCRIPTION:Poetry in Spanish and English\n\nConversation on Poetry\, Race\, Gender\, Social Justice and Indigenous Communities in Latin America\n\nBook Signing by Gabriel Chavez\, Persistencia de los tatuajes/ Persistence of Tattoos\n\nCheyenne Avila\, I will forget These Poems\, but never the Way They Healed Me\n\n\n\nParticiants:\n\nAli Calderon (Mexico)\n\nNelson Cardenas (Cuba)\n\nGabriel Chavez (Bolivia)\n\nAndrea Cote (Columbia)\n\nGuadalupe Robles (California)\n\nCheyenne Avila (California)
X-ALT-DESC;FMTTYPE=text/html:Poetry in Spanish and English<br />\nConversation on Poetry\, Race\, Gender\, Social Justice and Indigenous Communities in Latin America<br />\nBook Signing by Gabriel Chavez\, Persistencia de los tatuajes/ Persistence of Tattoos<br />\nCheyenne Avila\, I will forget These Poems\, but never the Way They Healed Me<br />\n<br />\nParticiants:<br />\nAli Calderon (Mexico)<br />\nNelson Cardenas (Cuba)<br />\nGabriel Chavez (Bolivia)<br />\nAndrea Cote (Columbia)<br />\nGuadalupe Robles (California)<br />\nCheyenne Avila (California)
LOCATION:University of La Verne Hanawalt House Courtyard
UID:e.1883.1777
SEQUENCE:3
DTSTAMP:20260421T145339Z
URL:https://business.lavernechamber.org/events/details/university-of-la-verne-presents-poetry-festival-2019-1777
END:VEVENT

END:VCALENDAR
