BEGIN:VCALENDAR
VERSION:2.0
PRODID:-//ChamberMaster//Event Calendar 2.0//EN
METHOD:PUBLISH
X-PUBLISHED-TTL:P3D
REFRESH-INTERVAL:P3D
CALSCALE:GREGORIAN
BEGIN:VEVENT
DTSTART:20180324T160000Z
DTEND:20180324T190000Z
X-MICROSOFT-CDO-ALLDAYEVENT:FALSE
SUMMARY:Vegan BBQ Cooking Class
DESCRIPTION:Join Outdoor Elegance and Mad Dawgz BBQ for our first BBQ cooking class of the year!\n\n\n\nWe've got our good friend and BBQ pit master\, Larry "Mad Dawgz" Adkins\, who will be teaching you how to grill these Vegan items on our very best BBQ grills:\n\n\n\n* Faux pulled pork\n\n* Garden veggie meatloaf\n\n* Jalape o stuffed w/ almond cheese\n\n* Skewered Mushrooms\n\n* Grilled Mixed Vegetables
X-ALT-DESC;FMTTYPE=text/html:<span style="color: rgb(75\, 79\, 86)\; font-family: Helvetica\, Arial\, sans-serif\; font-size: 14px\;">Join Outdoor Elegance and Mad Dawgz BBQ for our first BBQ cooking class of the year!</span><br style="color: rgb(75\, 79\, 86)\; font-family: Helvetica\, Arial\, sans-serif\; font-size: 14px\;" />\n<br style="color: rgb(75\, 79\, 86)\; font-family: Helvetica\, Arial\, sans-serif\; font-size: 14px\;" />\n<span style="color: rgb(75\, 79\, 86)\; font-family: Helvetica\, Arial\, sans-serif\; font-size: 14px\;">We&#39\;ve got our good friend and BBQ pit master\, Larry &quot\;Mad Dawgz&quot\; Adkins\, who will be teaching you how to grill these Vegan items on our very best BBQ grills:</span><br style="color: rgb(75\, 79\, 86)\; font-family: Helvetica\, Arial\, sans-serif\; font-size: 14px\;" />\n<br style="color: rgb(75\, 79\, 86)\; font-family: Helvetica\, Arial\, sans-serif\; font-size: 14px\;" />\n<span style="color: rgb(75\, 79\, 86)\; font-family: Helvetica\, Arial\, sans-serif\; font-size: 14px\;">* Faux pulled pork</span><br style="color: rgb(75\, 79\, 86)\; font-family: Helvetica\, Arial\, sans-serif\; font-size: 14px\;" />\n<span style="color: rgb(75\, 79\, 86)\; font-family: Helvetica\, Arial\, sans-serif\; font-size: 14px\;">* Garden veggie meatloaf</span><br style="color: rgb(75\, 79\, 86)\; font-family: Helvetica\, Arial\, sans-serif\; font-size: 14px\;" />\n<span style="color: rgb(75\, 79\, 86)\; font-family: Helvetica\, Arial\, sans-serif\; font-size: 14px\;">* Jalape&ntilde\;o stuffed w/ almond cheese</span><br style="color: rgb(75\, 79\, 86)\; font-family: Helvetica\, Arial\, sans-serif\; font-size: 14px\;" />\n<span style="color: rgb(75\, 79\, 86)\; font-family: Helvetica\, Arial\, sans-serif\; font-size: 14px\;">* Skewered Mushrooms</span><br style="color: rgb(75\, 79\, 86)\; font-family: Helvetica\, Arial\, sans-serif\; font-size: 14px\;" />\n<span style="color: rgb(75\, 79\, 86)\; font-family: Helvetica\, Arial\, sans-serif\; font-size: 14px\;">* Grilled Mixed Vegetables</span><br style="color: rgb(75\, 79\, 86)\; font-family: Helvetica\, Arial\, sans-serif\; font-size: 14px\;" />\n&nbsp\;
LOCATION:Outdoor Elegance 3795 Damien Ave. La Verne\, CA 91750 (our showroom)
UID:e.1883.550
SEQUENCE:3
DTSTAMP:20260422T212205Z
URL:https://business.lavernechamber.org/events/details/vegan-bbq-cooking-class-550
END:VEVENT

END:VCALENDAR
