BEGIN:VCALENDAR
VERSION:2.0
PRODID:-//ChamberMaster//Event Calendar 2.0//EN
METHOD:PUBLISH
X-PUBLISHED-TTL:P3D
REFRESH-INTERVAL:P3D
CALSCALE:GREGORIAN
BEGIN:VEVENT
DTSTART:20190409T153000Z
DTEND:20190409T213000Z
X-MICROSOFT-CDO-ALLDAYEVENT:FALSE
SUMMARY:Vet Center Program
DESCRIPTION:Vet Center program provides individual\, group and family counseling to all veterans who served in any combat zone. Services are also available for their family members . Veterans have earned these benefits through their combat service and all are provided at no cost to the veteran or family.\n\n \n\nOther services offered:\n\n	Assist veterans in connecting with supportive services with filing or re-opening claims for service connected disabilities\n	Follow up on status of claims filed by veterans with the VA Regional Office \n	Information and resources in navigating VA services  and benefits\n	Assist veterans or surviving spouses in exploring available benefits\n	Answer/Research telephone inquiries regarding medical\, death/burial and other miscellaneous benefits.\n\n(Please bring any documents to include DD Form 214\, Certificate of Release or Discharge from Active Duty)\n\nFor any questions\, please contact:\n\nCommander Daniel C. Lopez (909) 615-1074\n\nSr. Vice Commander Jeff Sanchez (909) 568-4438\n\nService Officer Orlando Jackson (785) 375-3456
X-ALT-DESC;FMTTYPE=text/html:<span style="letter-spacing:.15pt\;">Vet </span>Center <span style="letter-spacing:-.2pt\;">program </span><span style="letter-spacing:-.25pt\;">provides </span>individual\, group and family counseling <span style="letter-spacing:-.5pt\;">to </span>all veterans who served in any <span style="letter-spacing:-.95pt\;">combat</span> zone. Services are also available for their <span style="letter-spacing:-.8pt\;">family </span><span style="letter-spacing:-.95pt\;">members </span>. Veterans have earned <span style="letter-spacing:-.7pt\;">thes</span>e benefits through their combat service and all are provided at no cost to the veteran or family.<br />\n&nbsp\;<br />\nOther services offered:\n<ul>\n	<li style="margin-top:0in\;margin-right:16.4pt\;margin-bottom:0in\;margin-bottom:.0001pt\;"><span style="font-size:11.0pt\;">Assist veterans in connecting with supportive services with filing or re-opening claims for service connected disabilities</span></li>\n	<li style="margin-top:0in\;margin-right:77.4pt\;margin-bottom:0in\;margin-bottom:.0001pt\;text-align:justify\;"><span style="font-size:11.0pt\;">Follow up on status of claims filed by veterans with the VA Regional Office </span></li>\n	<li style="margin-top:0in\;margin-right:77.4pt\;margin-bottom:0in\;margin-bottom:.0001pt\;text-align:justify\;"><span style="font-size:11.0pt\;">Information and resources in navigating VA services &nbsp\;and benefits</span></li>\n	<li style="text-align:justify\;"><span style="font-size:11.0pt\;">Assist veterans or surviving spouses in exploring available benefits</span></li>\n	<li style="margin-top:0in\;margin-right:77.4pt\;margin-bottom:0in\;margin-bottom:.0001pt\;text-align:justify\;"><span style="font-size:11.0pt\;">Answer/Research telephone inquiries regarding medical\, death/burial and other miscellaneous benefits.</span></li>\n</ul>\n(Please bring any documents to include DD Form 214\, Certificate of Release or Discharge from Active Duty)<br />\n<span style="font-size: 13px\;">For any questions\, please contact:<br />\nCommander Daniel C. Lopez (909) 615-1074<br />\nSr. Vice Commander Jeff Sanchez (909) 568-4438<br />\nService Officer Orlando Jackson (785) 375-3456</span><br />\n&nbsp\;
LOCATION:Vetran's Hall
UID:e.1883.1343
SEQUENCE:3
DTSTAMP:20260421T234107Z
URL:https://business.lavernechamber.org/events/details/vet-center-program-1343
END:VEVENT

END:VCALENDAR
