BEGIN:VCALENDAR
VERSION:2.0
PRODID:-//ChamberMaster//Event Calendar 2.0//EN
METHOD:PUBLISH
X-PUBLISHED-TTL:P3D
REFRESH-INTERVAL:P3D
CALSCALE:GREGORIAN
BEGIN:VEVENT
DTSTART:20171111T190000Z
DTEND:20171111T200000Z
X-MICROSOFT-CDO-ALLDAYEVENT:FALSE
SUMMARY:Veterans Day Ceremony
DESCRIPTION:Join us in honoring our veterans at Veterans Hall. 1150 Bonita Avenue (Corner of Bonita and Wheeler)\, La Verne
X-ALT-DESC;FMTTYPE=text/html:<span style="color: rgb(69\, 44\, 3)\; font-family: Arimo\, Arial\, &quot\;Arial Unicode MS&quot\;\, Helvetica\, sans-serif\; font-size: 11px\; background-color: rgb(254\, 242\, 221)\;">Join us in honoring our veterans at Veterans Hall. 1150 Bonita Avenue (Corner of Bonita and Wheeler)\, La Verne</span>
LOCATION:Veterans Hall. 1150 Bonita Avenue (Corner of Bonita and Wheeler)\, La Verne
UID:e.1883.421
SEQUENCE:3
DTSTAMP:20260423T014651Z
URL:https://business.lavernechamber.org/events/details/veterans-day-ceremony-421
END:VEVENT

END:VCALENDAR
