BEGIN:VCALENDAR
VERSION:2.0
PRODID:-//ChamberMaster//Event Calendar 2.0//EN
METHOD:PUBLISH
X-PUBLISHED-TTL:P3D
REFRESH-INTERVAL:P3D
CALSCALE:GREGORIAN
BEGIN:VEVENT
DTSTART;VALUE=DATE:20180521
DTEND;VALUE=DATE:20180522
TRANSP:TRANSPARENT
X-MICROSOFT-CDO-ALLDAYEVENT:TRUE
SUMMARY:Voter Registration Deadline
DESCRIPTION:Register to Vote by May 21\n\n\n\nhttps://registertovote.ca.gov/
X-ALT-DESC;FMTTYPE=text/html:Register to Vote by May 21<br />\n<br />\n<a href="https://registertovote.ca.gov/"><span style="font-size: 13px\;">https://registertovote.ca.gov/</span></a>
LOCATION:
UID:e.1883.674
SEQUENCE:3
DTSTAMP:20260422T162907Z
URL:https://business.lavernechamber.org/events/details/voter-registration-deadline-674
END:VEVENT

END:VCALENDAR
