BEGIN:VCALENDAR
VERSION:2.0
PRODID:-//ChamberMaster//Event Calendar 2.0//EN
METHOD:PUBLISH
X-PUBLISHED-TTL:P3D
REFRESH-INTERVAL:P3D
CALSCALE:GREGORIAN
BEGIN:VEVENT
DTSTART:20190430T160000Z
DTEND:20190430T190000Z
X-MICROSOFT-CDO-ALLDAYEVENT:FALSE
SUMMARY:Waste Management Azusa Materials Recycling Facility Tours
DESCRIPTION:Behind the scenes look at what happens to your recycling once it leaves the curb\n\n \n\nLearn the Do's and Dont's of recycling\n\n \n\nNetwork with others who are interested in sustainability\n\n \n\nYou must sign up for one of the following time slots: 9am\, 9:30am\, 10am\, 10:30am\, 11am\, 11:30am\n\n \n\nLight refreshments will be served\n\n \n\nPlease wear closed toe shoes for the tour\, no high heels\, tour requires climbing stairs
X-ALT-DESC;FMTTYPE=text/html:<div><span style="font-size: 13px\;">Behind the scenes look at what happens to your recycling once it leaves the curb</span></div>\n\n<div>&nbsp\;</div>\n\n<div><span style="font-size: 13px\;">Learn the Do&#39\;s and Dont&#39\;s&nbsp\;of recycling</span></div>\n\n<div>&nbsp\;</div>\n\n<div><span style="font-size: 13px\;">Network with others who are interested in sustainability</span></div>\n\n<div>&nbsp\;</div>\n\n<div><span style="font-size: 13px\;">You must sign up for one of the following time slots: 9am\, 9:30am\, 10am\, 10:30am\, 11am\, 11:30am</span></div>\n\n<div>&nbsp\;</div>\n\n<div><span style="font-size: 13px\;">Light refreshments will be served</span></div>\n\n<div>&nbsp\;</div>\n\n<div><span style="font-size: 13px\;">Please wear closed toe shoes for the tour\, no high heels\, tour requires climbing stairs</span></div>\n
LOCATION:Waste Management 1501 W Gladstone Ave. Azusa\, CA 91702
UID:e.1883.1303
SEQUENCE:3
DTSTAMP:20260421T235208Z
URL:https://business.lavernechamber.org/events/details/waste-management-azusa-materials-recycling-facility-tours-1303
END:VEVENT

END:VCALENDAR
