BEGIN:VCALENDAR
VERSION:2.0
PRODID:-//ChamberMaster//Event Calendar 2.0//EN
METHOD:PUBLISH
X-PUBLISHED-TTL:P3D
REFRESH-INTERVAL:P3D
CALSCALE:GREGORIAN
BEGIN:VEVENT
DTSTART:20191205T020000Z
DTEND:20191205T030000Z
X-MICROSOFT-CDO-ALLDAYEVENT:FALSE
SUMMARY:West African Drum Ensembles Showcase and Workshop
DESCRIPTION:The University of La Verne West African Drumming Ensemble (WADE) is dedicated to the dynamic percussive traditions of West Africa. The ensembles combine the iconic djembe hand drum with other instruments in powerful\, multi-part relationships.\n\n\n\nAdmission is free\, seating is first come first served
X-ALT-DESC;FMTTYPE=text/html:The University of La Verne West African Drumming Ensemble (WADE) is dedicated to the dynamic percussive traditions of West Africa. The ensembles combine the iconic djembe hand drum with other instruments in powerful\, multi-part relationships.<br />\n<br />\nAdmission is free\, seating is first come first served\n<div>&nbsp\;</div>\n
LOCATION:University of La Verne Hanawalt House
UID:e.1883.2121
SEQUENCE:3
DTSTAMP:20260421T144747Z
URL:https://business.lavernechamber.org/events/details/west-african-drum-ensembles-showcase-and-workshop-2121
END:VEVENT

END:VCALENDAR
