BEGIN:VCALENDAR
VERSION:2.0
PRODID:-//ChamberMaster//Event Calendar 2.0//EN
METHOD:PUBLISH
X-PUBLISHED-TTL:P3D
REFRESH-INTERVAL:P3D
CALSCALE:GREGORIAN
BEGIN:VEVENT
DTSTART:20190720T220000Z
DTEND:20190721T000000Z
X-MICROSOFT-CDO-ALLDAYEVENT:FALSE
SUMMARY:Wine Flavor Workshop at Third Street Wine
DESCRIPTION:Do you ever wonder why you like the wines you do? Is it because you like citrus flavors? Baking spices? Or maybe a smoked meat character?\n\nIn our Wine Workshop: Flavors of Wine we explore the different flavors we experience when we take a sip of wine. We'll taste first and then we'll present the dominant flavors.\n\nSeating is Limited!\n\n\nSometimes called a components tasting\, this workshop will focus on flavors of wine - how they get to be in your glass and also how to identify them.\n\n\n\nTasting includes 4 wines\, each with a visual representation of its primary flavor components.
X-ALT-DESC;FMTTYPE=text/html:<p style="margin: 0px 0px 6px\; font-family: Helvetica\, Arial\, sans-serif\; color: rgb(28\, 30\, 33)\; font-size: 14px\;"><span style="font-size:14px\;"><span style="font-family:arial\;">Do you ever wonder why you like the wines you do? Is it because you like citrus flavors? Baking spices? Or maybe a smoked meat character?</span></span></p>\n\n<p style="margin: 6px 0px\; font-family: Helvetica\, Arial\, sans-serif\; color: rgb(28\, 30\, 33)\; font-size: 14px\;"><span style="font-size:14px\;"><span style="font-family:arial\;">In our&nbsp\;Wine Workshop: Flavors of Wine&nbsp\;we explore the different flavors we experience when we take a sip of wine. We&#39\;ll taste first and then we&#39\;ll present the dominant flavors.</span></span></p>\n\n<p style="margin: 6px 0px\; font-family: Helvetica\, Arial\, sans-serif\; color: rgb(28\, 30\, 33)\; font-size: 14px\;"><span style="font-size:14px\;"><span style="font-family:arial\;">Seating is Limited!</span></span></p>\n<br />\n<span style="font-size:14px\;"><span style="font-family:arial\;"><span font-size:="" helvetica="">Sometimes called a components tasting\, this workshop will focus on flavors of wine - how they get to be in your glass and also how to identify them.</span><br font-size:="" helvetica="" style="box-sizing: border-box\; -webkit-font-smoothing: antialiased\; text-rendering: optimizelegibility\; color: rgb(149\, 155\, 162)\; font-family: SQMarket-regular\, " />\n<br font-size:="" helvetica="" style="box-sizing: border-box\; -webkit-font-smoothing: antialiased\; text-rendering: optimizelegibility\; color: rgb(149\, 155\, 162)\; font-family: SQMarket-regular\, " />\n<span font-size:="" helvetica="">Tasting includes 4 wines\, each with a visual representation of its primary flavor components.</span></span></span>
LOCATION:Third Street Wine Shop
UID:e.1883.1487
SEQUENCE:3
DTSTAMP:20260421T190806Z
URL:https://business.lavernechamber.org/events/details/wine-flavor-workshop-at-third-street-wine-1487
END:VEVENT

END:VCALENDAR
