BEGIN:VCALENDAR
VERSION:2.0
PRODID:-//ChamberMaster//Event Calendar 2.0//EN
METHOD:PUBLISH
X-PUBLISHED-TTL:P3D
REFRESH-INTERVAL:P3D
CALSCALE:GREGORIAN
BEGIN:VEVENT
DTSTART:20190328T000000Z
DTEND:20190328T030000Z
X-MICROSOFT-CDO-ALLDAYEVENT:FALSE
SUMMARY:Wine & Shine Wednesday
DESCRIPTION:Join us  Wednesday March 27 for food\, wine\, specials and giveaways! \n\nVisit each business for a chance to win a gift basket worth over $400\n\nPick up your pass port at any of the participating businesses\n\nMickey's Jewerly Studio 20% off\n\nDuds & Doodads 25% off\n\nCindy Calderon Esthetics at Wild Earth Spa 20% off (New Clients)\n\nWild Earth Spa 30% off booked Sugaring Services\n\nRoots 20% off product
X-ALT-DESC;FMTTYPE=text/html:<div style="text-align: center\;"><span style="color: rgb(29\, 33\, 41)\; font-family: Helvetica\, Arial\, sans-serif\; font-size: 14px\;">Join us&nbsp\; Wednesday March 27 for food\, wine\, specials and giveaways!&nbsp\;<br />\nVisit each business for a chance to win a gift basket worth over $400<br />\nPick up your pass port at any of the participating businesses</span><br />\nMickey&#39\;s Jewerly Studio 20% off<br />\nDuds &amp\; Doodads 25% off<br />\nCindy Calderon Esthetics at Wild Earth Spa 20% off (New Clients)<br />\nWild Earth Spa 30% off booked Sugaring Services<br />\nRoots 20% off product</div>\n
LOCATION:Duds & Doodads 2144 Bonita Ave. Micky's Jewelry Studio 2343 D Street Roots 2327 D Street Wild Earth Sap 2336 D Street
UID:e.1883.1331
SEQUENCE:3
DTSTAMP:20260422T011724Z
URL:https://business.lavernechamber.org/events/details/wine-shine-wednesday-1331
END:VEVENT

END:VCALENDAR
