BEGIN:VCALENDAR
VERSION:2.0
PRODID:-//ChamberMaster//Event Calendar 2.0//EN
METHOD:PUBLISH
X-PUBLISHED-TTL:P3D
REFRESH-INTERVAL:P3D
CALSCALE:GREGORIAN
BEGIN:VEVENT
DTSTART:20190425T000000Z
DTEND:20190425T030000Z
X-MICROSOFT-CDO-ALLDAYEVENT:FALSE
SUMMARY:Wine & Shine Wednesday
DESCRIPTION:It's time! Come cool off with a nice glass of wine\, enjoy light appetizers and get 25% off your purchase! You can pick up your passport @dudsndoodads or @mickysjewelrystudio for a chance to win a great giveaway worth $200!!
X-ALT-DESC;FMTTYPE=text/html:<div style="text-align: center\;"><span style="color: rgb(29\, 33\, 41)\; font-family: Helvetica\, Arial\, sans-serif\; font-size: 14px\;">It&#39\;s time! Come cool off with a nice glass of wine\, enjoy light appetizers and get 25% off your purchase! You can pick up your passport @dudsndoodads or @mickysjewelrystudio for a chance to win a great giveaway worth $200!!</span></div>\n
LOCATION:Duds & Doodads 2144 Bonita Ave. Micky's Jewelry Studio 2343 D Street
UID:e.1883.1367
SEQUENCE:3
DTSTAMP:20260421T234707Z
URL:https://business.lavernechamber.org/events/details/wine-shine-wednesday-1367
END:VEVENT

END:VCALENDAR
