BEGIN:VCALENDAR
VERSION:2.0
PRODID:-//ChamberMaster//Event Calendar 2.0//EN
METHOD:PUBLISH
X-PUBLISHED-TTL:P3D
REFRESH-INTERVAL:P3D
CALSCALE:GREGORIAN
BEGIN:VEVENT
DTSTART:20190530T000000Z
DTEND:20190530T030000Z
X-MICROSOFT-CDO-ALLDAYEVENT:FALSE
SUMMARY:Wine & Shine Wednesday
DESCRIPTION:Join us for our monthly Wine & Shine Wednesday! Wine\, food\, friends\, shopping\, giveaways! Grab your friends and your passport and we'll see you there! Passports available at any of the participating locations!! Thank you! \n\n20% off at Micky's Jewlery Studio\n\n25% off at Duds & Doodads\n\n20% off Booked Sugaring Services at Wild Earth Spa\n\n$20 off New Clients at Cindy Calderon Esthetics
X-ALT-DESC;FMTTYPE=text/html:<div style="text-align: center\;"><span style="color: rgb(28\, 30\, 33)\; font-family: Helvetica\, Arial\, sans-serif\; font-size: 14px\;">Join us for our monthly Wine &amp\; Shine Wednesday! Wine\, food\, friends\, shopping\, giveaways! Grab your friends and your passport and we&rsquo\;ll see you there! Passports available at any of the participating locations!! Thank you!&nbsp\;<br />\n20% off at Micky&#39\;s Jewlery Studio<br />\n25% off at Duds &amp\; Doodads<br />\n20% off Booked Sugaring Services at Wild Earth Spa<br />\n$20 off New Clients at Cindy Calderon Esthetics&nbsp\;</span><br />\n&nbsp\;</div>\n
LOCATION:Duds & Doodads 2144 Bonita Ave. Micky's Jewelry Studio 2343 D Street Wild Earth Spa 2336 D Street Cindy Calderon Esthetics 2663 D Street
UID:e.1883.1438
SEQUENCE:3
DTSTAMP:20260421T221653Z
URL:https://business.lavernechamber.org/events/details/wine-shine-wednesday-1438
END:VEVENT

END:VCALENDAR
