BEGIN:VCALENDAR
VERSION:2.0
PRODID:-//ChamberMaster//Event Calendar 2.0//EN
METHOD:PUBLISH
X-PUBLISHED-TTL:P3D
REFRESH-INTERVAL:P3D
CALSCALE:GREGORIAN
BEGIN:VEVENT
DTSTART:20190627T000000Z
DTEND:20190627T030000Z
X-MICROSOFT-CDO-ALLDAYEVENT:FALSE
SUMMARY:Wine & Shine Wednesday
DESCRIPTION:Join us for our monthly Wine & Shine Wednesday! Wine\, food\, friends\, shopping\, giveaways! Grab your friends and find some special summer savings!! Thank you! \n\nUp to 50% off at Micky's Jewlery Studio\n\n25% off at Duds & Doodads
X-ALT-DESC;FMTTYPE=text/html:<div style="text-align: center\;"><span style="color: rgb(28\, 30\, 33)\; font-family: Helvetica\, Arial\, sans-serif\; font-size: 14px\;">Join us for our monthly Wine &amp\; Shine Wednesday! Wine\, food\, friends\, shopping\, giveaways! Grab your friends and find some special summer savings!! Thank you!&nbsp\;<br />\nUp to 50% off at Micky&#39\;s Jewlery Studio<br />\n25% off at Duds &amp\; Doodads</span><br />\n<br />\n&nbsp\;</div>\n
LOCATION:Duds & Doodads 2144 Bonita Ave. Micky's Jewelry Studio 2343 D Street
UID:e.1883.1455
SEQUENCE:3
DTSTAMP:20260421T204228Z
URL:https://business.lavernechamber.org/events/details/wine-shine-wednesday-1455
END:VEVENT

END:VCALENDAR
