BEGIN:VCALENDAR
VERSION:2.0
PRODID:-//ChamberMaster//Event Calendar 2.0//EN
METHOD:PUBLISH
X-PUBLISHED-TTL:P3D
REFRESH-INTERVAL:P3D
CALSCALE:GREGORIAN
BEGIN:VEVENT
DTSTART:20190725T000000Z
DTEND:20190725T030000Z
X-MICROSOFT-CDO-ALLDAYEVENT:FALSE
SUMMARY:Wine & Shine Wednesday
DESCRIPTION:It's gonna be a hot one! The A/C is on and the wine is chilling at Duds & Doodads! Join us tonight 5-8pm for food\, wine\, and shopping! 25% storewide and special guest @shopreinvented sharing their handcrafted woodwork!! Hope to see you there!
X-ALT-DESC;FMTTYPE=text/html:<div style="text-align: center\;"><span style="color: rgb(28\, 30\, 33)\; font-family: Helvetica\, Arial\, sans-serif\; font-size: 14px\;">It&rsquo\;s gonna be a hot one! The A/C is on and the wine is chilling at Duds &amp\; Doodads! Join us tonight 5-8pm for food\, wine\, and shopping! 25% storewide and special guest @shopreinvented sharing their handcrafted woodwork!! Hope to see you there!</span></div>\n
LOCATION:Duds & Doodads 2144 Bonita Ave.
UID:e.1883.1495
SEQUENCE:3
DTSTAMP:20260421T190733Z
URL:https://business.lavernechamber.org/events/details/wine-shine-wednesday-1495
END:VEVENT

END:VCALENDAR
