BEGIN:VCALENDAR
VERSION:2.0
PRODID:-//ChamberMaster//Event Calendar 2.0//EN
METHOD:PUBLISH
X-PUBLISHED-TTL:P3D
REFRESH-INTERVAL:P3D
CALSCALE:GREGORIAN
BEGIN:VEVENT
DTSTART:20190829T000000Z
DTEND:20190829T030000Z
X-MICROSOFT-CDO-ALLDAYEVENT:FALSE
SUMMARY:Wine & Shine Wednesday
DESCRIPTION:Join us tonight for chilled wine from Third Street Wine Shop\, delicious treats from Corner Butcher Shop & Modern Mayhem Sweets and 25% off shopping pass on new inventory at Duds & Doodads!! Grab your passport and visit Micky's Jewelry and Cindy Calderon @ Wild Earth Spa for a chance to win $300 in gift certificates!! It's a great night out! Grab your friends and see you there!!
X-ALT-DESC;FMTTYPE=text/html:<div style="text-align: center\;"><span style="color: rgb(29\, 33\, 41)\; font-family: Helvetica\, Arial\, sans-serif\; font-size: 14px\;">Join us tonight for chilled wine from Third Street Wine Shop\, delicious treats from Corner Butcher Shop &amp\; Modern Mayhem Sweets and 25% off shopping pass on new inventory at Duds &amp\; Doodads!! Grab your passport and visit Micky&rsquo\;s Jewelry and Cindy Calderon @ Wild Earth Spa for a chance to win $300 in gift certificates!! It&rsquo\;s a great night out! Grab your friends and see you there!!&nbsp\;</span></div>\n
LOCATION:Duds & Doodads 2144 Bonita Ave. Micky's Jewelry Studio 2343 D Street Cindy Calderon at Wild Earth Spa 2336 D Street
UID:e.1883.1735
SEQUENCE:3
DTSTAMP:20260421T174740Z
URL:https://business.lavernechamber.org/events/details/wine-shine-wednesday-1735
END:VEVENT

END:VCALENDAR
