BEGIN:VCALENDAR
VERSION:2.0
PRODID:-//ChamberMaster//Event Calendar 2.0//EN
METHOD:PUBLISH
X-PUBLISHED-TTL:P3D
REFRESH-INTERVAL:P3D
CALSCALE:GREGORIAN
BEGIN:VEVENT
DTSTART:20191214T010000Z
DTEND:20191214T060000Z
X-MICROSOFT-CDO-ALLDAYEVENT:FALSE
SUMMARY:Winter Vendor Fair at Cactus Coffee
DESCRIPTION:A special one day event!\n\nJoin us for live music\, local vendors\, coffee & brews!\n\nPlus specials on Cactus merch!
X-ALT-DESC;FMTTYPE=text/html:A special one day event!<br />\nJoin us for live music\, local vendors\, coffee &amp\; brews!<br />\nPlus specials on Cactus merch!<br />\n&nbsp\;
LOCATION:Cactus Coffee
UID:e.1883.2145
SEQUENCE:3
DTSTAMP:20260421T161416Z
URL:https://business.lavernechamber.org/events/details/winter-vendor-fair-at-cactus-coffee-2145
END:VEVENT

END:VCALENDAR
