BEGIN:VCALENDAR
VERSION:2.0
PRODID:-//ChamberMaster//Event Calendar 2.0//EN
METHOD:PUBLISH
X-PUBLISHED-TTL:P3D
REFRESH-INTERVAL:P3D
CALSCALE:GREGORIAN
BEGIN:VEVENT
DTSTART:20191214T170000Z
DTEND:20191214T210000Z
X-MICROSOFT-CDO-ALLDAYEVENT:FALSE
SUMMARY:Winter Wonderland in La Verne
DESCRIPTION:Children age 12 and under can enjoy three 60-foot snow runs and two snow play lands with real snow! Children can choose from a variety of crafts in the "Elves' Hobby Hut\, enjoy\, a cup of hot cocoa and a doughnut at "Mrs. Claus' Cozy Kitchen"\, and of course visit Santa at the gazebo! Parents be sure to bring your cameras for this wonderful photo opportunity. \n\nKids should dress for snow: mittens\, gloves\, boots and jackets. Sliding saucers will be provided. \n\nThere will also be food and refreshments for purchase and craft vendors for early Christmas shopping. \n\nAdditional Parking is available at oak Mesa School. The park may be accessed using the pathway behind the school along the wash.
X-ALT-DESC;FMTTYPE=text/html:<span style="font-size:16.0pt\;">Children age 12 and under can enjoy three 60-foot snow runs and two snow play lands with real snow! Children can choose from a variety of crafts in the &ldquo\;Elves&rsquo\; Hobby Hut\, enjoy\, a cup of hot cocoa and&nbsp\;a doughnut at &ldquo\;Mrs. Claus&rsquo\; Cozy Kitchen&rdquo\;\, and of course&nbsp\;visit Santa at the gazebo! Parents be sure to bring your&nbsp\;cameras for this wonderful photo opportunity. </span><br />\n<span style="font-size:16.0pt\;">Kids&nbsp\;should dress for snow: mittens\, gloves\, boots and&nbsp\;jackets. Sliding saucers will be provided. </span><br />\n<span style="font-size:16.0pt\;">There will&nbsp\;also be food and refreshments for purchase and&nbsp\;craft vendors for early Christmas shopping.&nbsp\;</span><br />\n<span style="font-family:calibri\,sans-serif\;"><span style="font-size:16.0pt\;">Additional Parking is available at oak Mesa School. The park may be accessed using the pathway behind the school along the wash.</span></span><br />\n&nbsp\;
LOCATION:Heritage Park
UID:e.1883.2125
SEQUENCE:3
DTSTAMP:20260421T161632Z
URL:https://business.lavernechamber.org/events/details/winter-wonderland-in-la-verne-2125
END:VEVENT

END:VCALENDAR
