BEGIN:VCALENDAR
VERSION:2.0
PRODID:-//ChamberMaster//Event Calendar 2.0//EN
METHOD:PUBLISH
X-PUBLISHED-TTL:P3D
REFRESH-INTERVAL:P3D
CALSCALE:GREGORIAN
BEGIN:VEVENT
DTSTART:20190928T210000Z
DTEND:20190928T220000Z
X-MICROSOFT-CDO-ALLDAYEVENT:FALSE
SUMMARY:Yarn Painting at the La Verne Library
DESCRIPTION:This craft is inspired by the art of the Huichol\, descendants of the Aztec. Having withstood the Spanish Invasion\, they are still striving to keep their culture alive and viable.\n\n \n\nFor ages 18 and up.
X-ALT-DESC;FMTTYPE=text/html:<div style="box-sizing: border-box\; margin: 0px\; padding: 0px\; border: 0px\; font-variant-numeric: inherit\; font-variant-east-asian: inherit\; font-stretch: inherit\; font-size: 17px\; line-height: inherit\; font-family: gibson-regular-webfont\; vertical-align: baseline\; outline: none\; color: rgb(128\, 128\, 128)\; letter-spacing: 0.7px\; background-color: rgb(245\, 245\, 245)\;">\n<div style="box-sizing: border-box\; margin: 0px\; padding: 0px\; border: 0px\; font-variant-numeric: inherit\; font-variant-east-asian: inherit\; font-stretch: inherit\; font-size: 17px\; line-height: inherit\; font-family: gibson-regular-webfont\; vertical-align: baseline\; color: rgb(128\, 128\, 128)\; letter-spacing: 0.7px\; background-color: rgb(245\, 245\, 245)\;"><span style="box-sizing: border-box\; margin: 0px\; padding: 0px\; border: 0px\; font: inherit\; vertical-align: baseline\; color: rgb(0\, 0\, 0)\;">This craft is</span><strong style="box-sizing: border-box\; margin: 0px\; padding: 0px\; border: 0px\; font-style: inherit\; font-variant: inherit\; font-stretch: inherit\; font-size: inherit\; line-height: inherit\; font-family: inherit\; vertical-align: baseline\;"><span style="box-sizing: border-box\; margin: 0px\; padding: 0px\; border: 0px\; font: inherit\; vertical-align: baseline\; color: rgb(0\, 0\, 0)\;">&nbsp\;</span></strong>inspired by the art of the Huichol\, descendants of the Aztec.&nbsp\;Having withstood the Spanish Invasion\, they are still striving to keep their culture alive and viable.</div>\n\n<div style="box-sizing: border-box\; margin: 0px\; padding: 0px\; border: 0px\; font-variant-numeric: inherit\; font-variant-east-asian: inherit\; font-stretch: inherit\; font-size: 17px\; line-height: inherit\; font-family: gibson-regular-webfont\; vertical-align: baseline\; color: rgb(128\, 128\, 128)\; letter-spacing: 0.7px\; background-color: rgb(245\, 245\, 245)\;">&nbsp\;</div>\n\n<div style="box-sizing: border-box\; margin: 0px\; padding: 0px\; border: 0px\; font-variant-numeric: inherit\; font-variant-east-asian: inherit\; font-stretch: inherit\; font-size: 17px\; line-height: inherit\; font-family: gibson-regular-webfont\; vertical-align: baseline\; color: rgb(128\, 128\, 128)\; letter-spacing: 0.7px\; background-color: rgb(245\, 245\, 245)\;">For ages 18 and up.</div>\n</div>\n
LOCATION:La Verne Public Library
UID:e.1883.1748
SEQUENCE:3
DTSTAMP:20260421T161707Z
URL:https://business.lavernechamber.org/events/details/yarn-painting-at-the-la-verne-library-1748
END:VEVENT

END:VCALENDAR
